BEGIN:VCALENDAR
VERSION:2.0
PRODID:-//Around Alhambra - ECPv6.15.20//NONSGML v1.0//EN
CALSCALE:GREGORIAN
METHOD:PUBLISH
X-WR-CALNAME:Around Alhambra
X-ORIGINAL-URL:https://aroundalhambra.org
X-WR-CALDESC:Events for Around Alhambra
REFRESH-INTERVAL;VALUE=DURATION:PT1H
X-Robots-Tag:noindex
X-PUBLISHED-TTL:PT1H
BEGIN:VTIMEZONE
TZID:America/Los_Angeles
BEGIN:DAYLIGHT
TZOFFSETFROM:-0800
TZOFFSETTO:-0700
TZNAME:PDT
DTSTART:20240310T100000
END:DAYLIGHT
BEGIN:STANDARD
TZOFFSETFROM:-0700
TZOFFSETTO:-0800
TZNAME:PST
DTSTART:20241103T090000
END:STANDARD
BEGIN:DAYLIGHT
TZOFFSETFROM:-0800
TZOFFSETTO:-0700
TZNAME:PDT
DTSTART:20250309T100000
END:DAYLIGHT
BEGIN:STANDARD
TZOFFSETFROM:-0700
TZOFFSETTO:-0800
TZNAME:PST
DTSTART:20251102T090000
END:STANDARD
BEGIN:DAYLIGHT
TZOFFSETFROM:-0800
TZOFFSETTO:-0700
TZNAME:PDT
DTSTART:20260308T100000
END:DAYLIGHT
BEGIN:STANDARD
TZOFFSETFROM:-0700
TZOFFSETTO:-0800
TZNAME:PST
DTSTART:20261101T090000
END:STANDARD
END:VTIMEZONE
BEGIN:VEVENT
DTSTART;TZID=America/Los_Angeles:20250801T190000
DTEND;TZID=America/Los_Angeles:20250801T203000
DTSTAMP:20260419T232812
CREATED:20250519T204550Z
LAST-MODIFIED:20250519T205927Z
UID:3741-1754074800-1754080200@aroundalhambra.org
SUMMARY:Summer Concerts in the Park
DESCRIPTION:Featuring Radio Royalty \n\n\n\nThis high-energy 80’s dance party is part of the official City of Alhambra Summer Concert Series and is expected to attract a fantastic crowd from across the region. It’s a wonderful opportunity to generate excitement\, boost foot traffic\, and support local businesses in and around the downtown district. \n\n\n\nFor full event details\, here’s the Facebook event link:https://www.facebook.com/events/592640353821177/
URL:https://aroundalhambra.org/event/summer-concerts-in-the-park-4/
LOCATION:Alhambra Park\, 500 N Palm Ave\, Alhambra\, California\, 91801\, United States
END:VEVENT
END:VCALENDAR