BEGIN:VCALENDAR
VERSION:2.0
PRODID:-//Around Alhambra - ECPv6.15.20//NONSGML v1.0//EN
CALSCALE:GREGORIAN
METHOD:PUBLISH
X-ORIGINAL-URL:https://aroundalhambra.org
X-WR-CALDESC:Events for Around Alhambra
REFRESH-INTERVAL;VALUE=DURATION:PT1H
X-Robots-Tag:noindex
X-PUBLISHED-TTL:PT1H
BEGIN:VTIMEZONE
TZID:America/Los_Angeles
BEGIN:DAYLIGHT
TZOFFSETFROM:-0800
TZOFFSETTO:-0700
TZNAME:PDT
DTSTART:20240310T100000
END:DAYLIGHT
BEGIN:STANDARD
TZOFFSETFROM:-0700
TZOFFSETTO:-0800
TZNAME:PST
DTSTART:20241103T090000
END:STANDARD
BEGIN:DAYLIGHT
TZOFFSETFROM:-0800
TZOFFSETTO:-0700
TZNAME:PDT
DTSTART:20250309T100000
END:DAYLIGHT
BEGIN:STANDARD
TZOFFSETFROM:-0700
TZOFFSETTO:-0800
TZNAME:PST
DTSTART:20251102T090000
END:STANDARD
BEGIN:DAYLIGHT
TZOFFSETFROM:-0800
TZOFFSETTO:-0700
TZNAME:PDT
DTSTART:20260308T100000
END:DAYLIGHT
BEGIN:STANDARD
TZOFFSETFROM:-0700
TZOFFSETTO:-0800
TZNAME:PST
DTSTART:20261101T090000
END:STANDARD
END:VTIMEZONE
BEGIN:VEVENT
DTSTART;TZID=America/Los_Angeles:20250405T090000
DTEND;TZID=America/Los_Angeles:20250405T170000
DTSTAMP:20260420T053419
CREATED:20250326T222009Z
LAST-MODIFIED:20250326T222013Z
UID:3199-1743843600-1743872400@aroundalhambra.org
SUMMARY:The Wild Whisk Grand Opening and Ribbon Cutting Ceremony
DESCRIPTION:Something sweet has officially arrived in Alhambra!   \n\n\n\nThe Wild Whisk Bakery is rolling out the aloha vibes and LA flair at their grand opening on Saturday\, April 5th.  Spin the prize wheel\, snack on free samples\, and get 10% off everything at 2428 W Valley Blvd\, Alhambra! \n\n\n\nFounded by a dynamic husband-and-wife duo\, Wild Whisk mixes the island flavors of Hawaii with the bold tastes of LA. Think Chocolate Dobash cake\, Hawaiian Furikake Chex mix\, and their take on classics such as Vietnamese Coffee Tres Leches.
URL:https://aroundalhambra.org/event/the-wild-whisk-grand-opening-and-ribbon-cutting-ceremony/
LOCATION:The Wild Whisk Bakery\, 2428 W Valley Blvd.\, Alhambra\, 91801
ATTACH;FMTTYPE=image/png:https://aroundalhambra.org/wp-content/uploads/2025/03/The-WIld-WHisk-Bakery-Grand-Opening-Flyer-V1.png
END:VEVENT
END:VCALENDAR