BEGIN:VCALENDAR
VERSION:2.0
PRODID:-//Around Alhambra - ECPv6.15.20//NONSGML v1.0//EN
CALSCALE:GREGORIAN
METHOD:PUBLISH
X-ORIGINAL-URL:https://aroundalhambra.org
X-WR-CALDESC:Events for Around Alhambra
REFRESH-INTERVAL;VALUE=DURATION:PT1H
X-Robots-Tag:noindex
X-PUBLISHED-TTL:PT1H
BEGIN:VTIMEZONE
TZID:UTC
BEGIN:STANDARD
TZOFFSETFROM:+0000
TZOFFSETTO:+0000
TZNAME:UTC
DTSTART:20240101T000000
END:STANDARD
END:VTIMEZONE
BEGIN:VEVENT
DTSTART;TZID=UTC:20250105T100000
DTEND;TZID=UTC:20250105T140000
DTSTAMP:20260420T093353
CREATED:20241025T121853Z
LAST-MODIFIED:20250125T032544Z
UID:1747-1736071200-1736085600@aroundalhambra.org
SUMMARY:Main Street Market January
DESCRIPTION:
URL:https://aroundalhambra.org/event/main-street-market/
LOCATION:Renaissance Plaza\, 1 E. Main St.\, Alhambra\, California\, 91801\, United States
ATTACH;FMTTYPE=image/png:https://aroundalhambra.org/wp-content/uploads/2024/10/Main-Street-Market.png
END:VEVENT
END:VCALENDAR