BEGIN:VCALENDAR
VERSION:2.0
PRODID:-//Around Alhambra - ECPv6.15.20//NONSGML v1.0//EN
CALSCALE:GREGORIAN
METHOD:PUBLISH
X-WR-CALNAME:Around Alhambra
X-ORIGINAL-URL:https://aroundalhambra.org
X-WR-CALDESC:Events for Around Alhambra
REFRESH-INTERVAL;VALUE=DURATION:PT1H
X-Robots-Tag:noindex
X-PUBLISHED-TTL:PT1H
BEGIN:VTIMEZONE
TZID:America/Los_Angeles
BEGIN:DAYLIGHT
TZOFFSETFROM:-0800
TZOFFSETTO:-0700
TZNAME:PDT
DTSTART:20230312T100000
END:DAYLIGHT
BEGIN:STANDARD
TZOFFSETFROM:-0700
TZOFFSETTO:-0800
TZNAME:PST
DTSTART:20231105T090000
END:STANDARD
BEGIN:DAYLIGHT
TZOFFSETFROM:-0800
TZOFFSETTO:-0700
TZNAME:PDT
DTSTART:20240310T100000
END:DAYLIGHT
BEGIN:STANDARD
TZOFFSETFROM:-0700
TZOFFSETTO:-0800
TZNAME:PST
DTSTART:20241103T090000
END:STANDARD
BEGIN:DAYLIGHT
TZOFFSETFROM:-0800
TZOFFSETTO:-0700
TZNAME:PDT
DTSTART:20250309T100000
END:DAYLIGHT
BEGIN:STANDARD
TZOFFSETFROM:-0700
TZOFFSETTO:-0800
TZNAME:PST
DTSTART:20251102T090000
END:STANDARD
END:VTIMEZONE
BEGIN:VEVENT
DTSTART;TZID=America/Los_Angeles:20241128T120000
DTEND;TZID=America/Los_Angeles:20241128T170000
DTSTAMP:20260420T105535
CREATED:20241118T213445Z
LAST-MODIFIED:20241118T213449Z
UID:2173-1732795200-1732813200@aroundalhambra.org
SUMMARY:Alhambra’s 2nd Annual Thanksgiving Dinner (2 Seatings)
DESCRIPTION:Join us for a scrumptious feast at Alhambra’s Annual Free Thanksgiving Dinner. \n\n\n\nProChef America Foundation presenta the annual FREE Thanksiving in Alhambra Dinner on Nov 28\, 2024 at Sage Granada Park United Methodist Church for the Needy\, Lonely and Hungry. An American Culinary Federation Chef Team will be providing a hot traditional Turkey Dinner with all the trimmings and entertainment by award-winning Murray Middleman and his Jazz Band.There will be two seatings\, 12pm and 3pm. To save your seat\, please RSVP: alhambra.eventbrite.com or contact by email: bizwind@yahoo.com. \n\n\n\nFor more information on Donating\, Volunteering or coming for the free meal and entertainment\, call (626) 230 5435.
URL:https://aroundalhambra.org/event/alhambras-2nd-annual-thanksgiving-dinner-2-seatings/
LOCATION:Sage Granada Park United Methodist Church\, 1850 West Hellman Avenue\, Alhambra\, California\, United States
ATTACH;FMTTYPE=image/jpeg:https://aroundalhambra.org/wp-content/uploads/2024/11/Screenshot_20241117_180328_Gallery.jpg
END:VEVENT
END:VCALENDAR