BEGIN:VCALENDAR
VERSION:2.0
PRODID:-//Around Alhambra - ECPv6.15.20//NONSGML v1.0//EN
CALSCALE:GREGORIAN
METHOD:PUBLISH
X-WR-CALNAME:Around Alhambra
X-ORIGINAL-URL:https://aroundalhambra.org
X-WR-CALDESC:Events for Around Alhambra
REFRESH-INTERVAL;VALUE=DURATION:PT1H
X-Robots-Tag:noindex
X-PUBLISHED-TTL:PT1H
BEGIN:VTIMEZONE
TZID:America/Los_Angeles
BEGIN:DAYLIGHT
TZOFFSETFROM:-0800
TZOFFSETTO:-0700
TZNAME:PDT
DTSTART:20250309T100000
END:DAYLIGHT
BEGIN:STANDARD
TZOFFSETFROM:-0700
TZOFFSETTO:-0800
TZNAME:PST
DTSTART:20251102T090000
END:STANDARD
BEGIN:DAYLIGHT
TZOFFSETFROM:-0800
TZOFFSETTO:-0700
TZNAME:PDT
DTSTART:20260308T100000
END:DAYLIGHT
BEGIN:STANDARD
TZOFFSETFROM:-0700
TZOFFSETTO:-0800
TZNAME:PST
DTSTART:20261101T090000
END:STANDARD
BEGIN:DAYLIGHT
TZOFFSETFROM:-0800
TZOFFSETTO:-0700
TZNAME:PDT
DTSTART:20270314T100000
END:DAYLIGHT
BEGIN:STANDARD
TZOFFSETFROM:-0700
TZOFFSETTO:-0800
TZNAME:PST
DTSTART:20271107T090000
END:STANDARD
END:VTIMEZONE
BEGIN:VEVENT
DTSTART;TZID=America/Los_Angeles:20260216T080000
DTEND;TZID=America/Los_Angeles:20260217T170000
DTSTAMP:20260419T120444
CREATED:20260210T212930Z
LAST-MODIFIED:20260210T212945Z
UID:5089-1771228800-1771347600@aroundalhambra.org
SUMMARY:Hengry Lunar New Year Celebration
DESCRIPTION:Celebrating Year of the Horse\n\n\n\nAs the Lunar New Year approaches\, the festive season is upon us.Hengry proudly presents our Lunar New Year celebration menu\, featuring a comforting Guizhou-style family feast created to celebrate reunion\, good fortune\, and love. Event DatesFebruary 16 – February 22 (Closed on Wednesday) Lunar New Year Set MenusTwo thoughtfully curated set menus\, ideal for family gatherings\, reunions with friends\, and business celebrations. Lunar New Year Red Envelope ExperienceDuring the event period\, every guest dining with us will have the opportunity to draw a Lunar New Year red envelope on site. Cash prizes range from $1 to $100\, randomly distributed\, a festive tradition to welcome good luck in the New Year. We look forward to celebrating Year of the Horse with you at the table.Call to reserve your table now! 626-761-8888
URL:https://aroundalhambra.org/event/hengry-lunar-new-year-celebration/
LOCATION:Hengry\, 2718 W Valley Blvd\, Alhambra\, California\, 91803\, United States
ATTACH;FMTTYPE=application/pdf:https://aroundalhambra.org/wp-content/uploads/2026/02/hengry-LNY-menu.pdf
END:VEVENT
BEGIN:VEVENT
DTSTART;TZID=America/Los_Angeles:20260222T120000
DTEND;TZID=America/Los_Angeles:20260222T170000
DTSTAMP:20260419T120444
CREATED:20260209T193332Z
LAST-MODIFIED:20260209T193339Z
UID:5074-1771761600-1771779600@aroundalhambra.org
SUMMARY:Toyzilla Geek Fest
DESCRIPTION:The Monthly Swap Meet for Collectible Toys\, Comics and Video Games returns as part of TOYZILLA Geek Mart! \n\n\n\nTOYZILLA Geek Mart will be held at Happy Humble Hub in the heart of Alhambra\, CA\, with food\, music\, and vendors specializing in vintage toys\, collectibles\, games\, comics\, and crafts. This event will include hourly raffles for amazing prizes\, guests of honor offering autographs and pictures\, and world-renown live streamers hosting interviews and auctions. \n\n\n\nSPECIAL GUESTS: \n\n\n\n\nRyan Bartley is the voice behind fan-favorite characters including Rei in Evangelion\, Ram in Re:ZERO\, Komugi from Hunter x Hunter\, and three roles in Demon Slayer (Makomo\, Hanako Kamado & Young Rengoku) Ryan’s talent spans anime\, video games\, and animation with credits in Jujutsu Kaisen\, Pokémon\, Hunter x Hunter\, and Sonic Frontier.\n\n\n\n\n\nLauren Landa is a super star voice actress who co-stars with Ryan Bartley in both Hunter x Hunter as Kalluto Zoldyck and Seven Deadly Sins as Merlin. She is best known as Annie Leonhardt or the Female Titan in Attack On Titan\, Sailor Neptune from Sailor Moon and Kyoko Sakura from Madoka Magica. Her video game work includes Super Smash Bro’s\, Street Fighter V\, Dead or Alive 5 and many more! \n\n\n\n\nEVENT EXCLUSIVES: TOYZILLA will be bringing a few Limited Edition Signed Certified ART Series Funko POPs to the show\, with some available to be purchased online in advance at TOYZILLA.com. \n\n\n\nParking is free and no prior registration is required.
URL:https://aroundalhambra.org/event/toyzilla-geek-fest/
LOCATION:Happy Humble Hub\, 117 E Main St Unit A & B\, Alhambra\, CA\, 91801\, United States
ATTACH;FMTTYPE=image/webp:https://aroundalhambra.org/wp-content/uploads/2026/02/Toyzilla-Geek-Mart-scaled.webp
END:VEVENT
BEGIN:VEVENT
DTSTART;TZID=America/Los_Angeles:20260228T080000
DTEND;TZID=America/Los_Angeles:20260228T170000
DTSTAMP:20260419T120444
CREATED:20250611T004408Z
LAST-MODIFIED:20250611T004412Z
UID:3859-1772265600-1772298000@aroundalhambra.org
SUMMARY:2026 Alhambra Lunar New Year Festival
DESCRIPTION:
URL:https://aroundalhambra.org/event/2026-alhambra-lunar-new-year-festival/
LOCATION:Main Street\, Alhambra\, Main Street\, Alhambra\, California\, 91801\, United States
CATEGORIES:chamber event
ATTACH;FMTTYPE=image/png:https://aroundalhambra.org/wp-content/uploads/2025/06/Year-of-the-Horse-Lunar-New-Year.png
END:VEVENT
END:VCALENDAR