BEGIN:VCALENDAR
VERSION:2.0
PRODID:-//Around Alhambra - ECPv6.15.20//NONSGML v1.0//EN
CALSCALE:GREGORIAN
METHOD:PUBLISH
X-WR-CALNAME:Around Alhambra
X-ORIGINAL-URL:https://aroundalhambra.org
X-WR-CALDESC:Events for Around Alhambra
REFRESH-INTERVAL;VALUE=DURATION:PT1H
X-Robots-Tag:noindex
X-PUBLISHED-TTL:PT1H
BEGIN:VTIMEZONE
TZID:America/Los_Angeles
BEGIN:DAYLIGHT
TZOFFSETFROM:-0800
TZOFFSETTO:-0700
TZNAME:PDT
DTSTART:20240310T100000
END:DAYLIGHT
BEGIN:STANDARD
TZOFFSETFROM:-0700
TZOFFSETTO:-0800
TZNAME:PST
DTSTART:20241103T090000
END:STANDARD
BEGIN:DAYLIGHT
TZOFFSETFROM:-0800
TZOFFSETTO:-0700
TZNAME:PDT
DTSTART:20250309T100000
END:DAYLIGHT
BEGIN:STANDARD
TZOFFSETFROM:-0700
TZOFFSETTO:-0800
TZNAME:PST
DTSTART:20251102T090000
END:STANDARD
BEGIN:DAYLIGHT
TZOFFSETFROM:-0800
TZOFFSETTO:-0700
TZNAME:PDT
DTSTART:20260308T100000
END:DAYLIGHT
BEGIN:STANDARD
TZOFFSETFROM:-0700
TZOFFSETTO:-0800
TZNAME:PST
DTSTART:20261101T090000
END:STANDARD
END:VTIMEZONE
BEGIN:VEVENT
DTSTART;TZID=America/Los_Angeles:20250801T190000
DTEND;TZID=America/Los_Angeles:20250801T203000
DTSTAMP:20260419T220114
CREATED:20250519T204550Z
LAST-MODIFIED:20250519T205927Z
UID:3741-1754074800-1754080200@aroundalhambra.org
SUMMARY:Summer Concerts in the Park
DESCRIPTION:Featuring Radio Royalty \n\n\n\nThis high-energy 80’s dance party is part of the official City of Alhambra Summer Concert Series and is expected to attract a fantastic crowd from across the region. It’s a wonderful opportunity to generate excitement\, boost foot traffic\, and support local businesses in and around the downtown district. \n\n\n\nFor full event details\, here’s the Facebook event link:https://www.facebook.com/events/592640353821177/
URL:https://aroundalhambra.org/event/summer-concerts-in-the-park-4/
LOCATION:Alhambra Park\, 500 N Palm Ave\, Alhambra\, California\, 91801\, United States
END:VEVENT
BEGIN:VEVENT
DTSTART;TZID=America/Los_Angeles:20250802T190000
DTEND;TZID=America/Los_Angeles:20250802T220000
DTSTAMP:20260419T220114
CREATED:20250519T205359Z
LAST-MODIFIED:20250519T205400Z
UID:3752-1754161200-1754172000@aroundalhambra.org
SUMMARY:Summer Movies in the Park
DESCRIPTION:Kung Fu Panda 4
URL:https://aroundalhambra.org/event/summer-movies-in-the-park-4/
LOCATION:Alhambra Park\, 500 N Palm Ave\, Alhambra\, California\, 91801\, United States
END:VEVENT
BEGIN:VEVENT
DTSTART;TZID=America/Los_Angeles:20250808T190000
DTEND;TZID=America/Los_Angeles:20250808T203000
DTSTAMP:20260419T220114
CREATED:20250519T204756Z
LAST-MODIFIED:20250519T204759Z
UID:3743-1754679600-1754685000@aroundalhambra.org
SUMMARY:Summer Concerts in the Park
DESCRIPTION:Sangria Band (Latin)
URL:https://aroundalhambra.org/event/summer-concerts-in-the-park-5/
LOCATION:Alhambra Park\, 500 N Palm Ave\, Alhambra\, California\, 91801\, United States
END:VEVENT
BEGIN:VEVENT
DTSTART;TZID=America/Los_Angeles:20250809T190000
DTEND;TZID=America/Los_Angeles:20250809T220000
DTSTAMP:20260419T220114
CREATED:20250519T205449Z
LAST-MODIFIED:20250519T205450Z
UID:3754-1754766000-1754776800@aroundalhambra.org
SUMMARY:Summer Movies in the Park
DESCRIPTION:Hercules
URL:https://aroundalhambra.org/event/summer-movies-in-the-park-5/
LOCATION:Alhambra Park\, 500 N Palm Ave\, Alhambra\, California\, 91801\, United States
END:VEVENT
BEGIN:VEVENT
DTSTART;TZID=America/Los_Angeles:20250816T180000
DTEND;TZID=America/Los_Angeles:20250816T210000
DTSTAMP:20260419T220114
CREATED:20250805T013231Z
LAST-MODIFIED:20250805T013241Z
UID:4396-1755367200-1755378000@aroundalhambra.org
SUMMARY:House of Alchemy Kitchen-Supper Club
DESCRIPTION:Five delicious courses. One beautiful night.Indulge in an intimate five-course dining experience with open flame cooking by Chef Aricia Alvarado\, where each course is a celebration California Latin flavors\, artistry\, and the magic of a shared meal.
URL:https://aroundalhambra.org/event/house-of-alchemy-kitchen-supper-club/
LOCATION:Genovese’s Italian Kitchen\, 2900 W Main Street\, Alhambra\, California\, 91801\, United States
END:VEVENT
END:VCALENDAR