BEGIN:VCALENDAR
VERSION:2.0
PRODID:-//Around Alhambra - ECPv6.15.20//NONSGML v1.0//EN
CALSCALE:GREGORIAN
METHOD:PUBLISH
X-ORIGINAL-URL:https://aroundalhambra.org
X-WR-CALDESC:Events for Around Alhambra
REFRESH-INTERVAL;VALUE=DURATION:PT1H
X-Robots-Tag:noindex
X-PUBLISHED-TTL:PT1H
BEGIN:VTIMEZONE
TZID:America/Los_Angeles
BEGIN:DAYLIGHT
TZOFFSETFROM:-0800
TZOFFSETTO:-0700
TZNAME:PDT
DTSTART:20240310T100000
END:DAYLIGHT
BEGIN:STANDARD
TZOFFSETFROM:-0700
TZOFFSETTO:-0800
TZNAME:PST
DTSTART:20241103T090000
END:STANDARD
BEGIN:DAYLIGHT
TZOFFSETFROM:-0800
TZOFFSETTO:-0700
TZNAME:PDT
DTSTART:20250309T100000
END:DAYLIGHT
BEGIN:STANDARD
TZOFFSETFROM:-0700
TZOFFSETTO:-0800
TZNAME:PST
DTSTART:20251102T090000
END:STANDARD
BEGIN:DAYLIGHT
TZOFFSETFROM:-0800
TZOFFSETTO:-0700
TZNAME:PDT
DTSTART:20260308T100000
END:DAYLIGHT
BEGIN:STANDARD
TZOFFSETFROM:-0700
TZOFFSETTO:-0800
TZNAME:PST
DTSTART:20261101T090000
END:STANDARD
END:VTIMEZONE
BEGIN:VEVENT
DTSTART;TZID=America/Los_Angeles:20250704T160000
DTEND;TZID=America/Los_Angeles:20250704T210000
DTSTAMP:20260419T233346
CREATED:20250701T013748Z
LAST-MODIFIED:20250701T013904Z
UID:4067-1751644800-1751662800@aroundalhambra.org
SUMMARY:City of Alhambra Fourth of July Celebration
DESCRIPTION:Celebrate Independence Day the Alhambra way! You’re invited to a festive Fourth of July celebration on Friday\, July 4\, at Almansor Park. This family-friendly event features food\, games\, live music\, and a fireworks finale — perfect for a summer night under the stars.
URL:https://aroundalhambra.org/event/city-of-alhambra-fourth-of-july-celebration/
LOCATION:Almansor Park\, 800 S Almansor St\, Alhambra\, California\, 91801\, United States
CATEGORIES:city event
END:VEVENT
BEGIN:VEVENT
DTSTART;TZID=America/Los_Angeles:20250711T190000
DTEND;TZID=America/Los_Angeles:20250711T203000
DTSTAMP:20260419T233346
CREATED:20250519T204037Z
LAST-MODIFIED:20250519T204039Z
UID:3735-1752260400-1752265800@aroundalhambra.org
SUMMARY:Summer Concerts in the Park
DESCRIPTION:Smooth Sound of Santana (Santana Tribute Band)
URL:https://aroundalhambra.org/event/summer-concerts-in-the-park/
LOCATION:Alhambra Park\, 500 N Palm Ave\, Alhambra\, California\, 91801\, United States
END:VEVENT
BEGIN:VEVENT
DTSTART;TZID=America/Los_Angeles:20250712T190000
DTEND;TZID=America/Los_Angeles:20250712T220000
DTSTAMP:20260419T233346
CREATED:20250519T204953Z
LAST-MODIFIED:20250519T204955Z
UID:3745-1752346800-1752357600@aroundalhambra.org
SUMMARY:Summer Movies in the Park
DESCRIPTION:Inside Out 2
URL:https://aroundalhambra.org/event/summer-movies-in-the-park/
LOCATION:Alhambra Park\, 500 N Palm Ave\, Alhambra\, California\, 91801\, United States
END:VEVENT
BEGIN:VEVENT
DTSTART;TZID=America/Los_Angeles:20250718T190000
DTEND;TZID=America/Los_Angeles:20250718T203000
DTSTAMP:20260419T233346
CREATED:20250519T204315Z
LAST-MODIFIED:20250519T204318Z
UID:3737-1752865200-1752870600@aroundalhambra.org
SUMMARY:Summer Concerts in the Park
DESCRIPTION:Smokin’ Cobras (Classic Rock Band)
URL:https://aroundalhambra.org/event/summer-concerts-in-the-park-2/
LOCATION:Alhambra Park\, 500 N Palm Ave\, Alhambra\, California\, 91801\, United States
END:VEVENT
BEGIN:VEVENT
DTSTART;TZID=America/Los_Angeles:20250719T190000
DTEND;TZID=America/Los_Angeles:20250719T220000
DTSTAMP:20260419T233346
CREATED:20250519T205056Z
LAST-MODIFIED:20250519T205058Z
UID:3747-1752951600-1752962400@aroundalhambra.org
SUMMARY:Summer Movies in the Park
DESCRIPTION:Despicable Me 4
URL:https://aroundalhambra.org/event/summer-movies-in-the-park-2/
LOCATION:Alhambra Park\, 500 N Palm Ave\, Alhambra\, California\, 91801\, United States
END:VEVENT
BEGIN:VEVENT
DTSTART;TZID=America/Los_Angeles:20250725T190000
DTEND;TZID=America/Los_Angeles:20250725T203000
DTSTAMP:20260419T233346
CREATED:20250519T204430Z
LAST-MODIFIED:20250519T204434Z
UID:3739-1753470000-1753475400@aroundalhambra.org
SUMMARY:Summer Concerts in the Park
DESCRIPTION:Funk Station (Dance Cover Band)
URL:https://aroundalhambra.org/event/summer-concerts-in-the-park-3/
LOCATION:Alhambra Park\, 500 N Palm Ave\, Alhambra\, California\, 91801\, United States
END:VEVENT
BEGIN:VEVENT
DTSTART;TZID=America/Los_Angeles:20250726T190000
DTEND;TZID=America/Los_Angeles:20250726T220000
DTSTAMP:20260419T233346
CREATED:20250519T205215Z
LAST-MODIFIED:20250519T205240Z
UID:3749-1753556400-1753567200@aroundalhambra.org
SUMMARY:Summer Movies in the Park
DESCRIPTION:Moana 2
URL:https://aroundalhambra.org/event/summer-movies-in-the-park-3/
LOCATION:Alhambra Park\, 500 N Palm Ave\, Alhambra\, California\, 91801\, United States
END:VEVENT
END:VCALENDAR