BEGIN:VCALENDAR
VERSION:2.0
PRODID:-//Around Alhambra - ECPv6.15.20//NONSGML v1.0//EN
CALSCALE:GREGORIAN
METHOD:PUBLISH
X-WR-CALNAME:Around Alhambra
X-ORIGINAL-URL:https://aroundalhambra.org
X-WR-CALDESC:Events for Around Alhambra
REFRESH-INTERVAL;VALUE=DURATION:PT1H
X-Robots-Tag:noindex
X-PUBLISHED-TTL:PT1H
BEGIN:VTIMEZONE
TZID:America/Los_Angeles
BEGIN:DAYLIGHT
TZOFFSETFROM:-0800
TZOFFSETTO:-0700
TZNAME:PDT
DTSTART:20240310T100000
END:DAYLIGHT
BEGIN:STANDARD
TZOFFSETFROM:-0700
TZOFFSETTO:-0800
TZNAME:PST
DTSTART:20241103T090000
END:STANDARD
BEGIN:DAYLIGHT
TZOFFSETFROM:-0800
TZOFFSETTO:-0700
TZNAME:PDT
DTSTART:20250309T100000
END:DAYLIGHT
BEGIN:STANDARD
TZOFFSETFROM:-0700
TZOFFSETTO:-0800
TZNAME:PST
DTSTART:20251102T090000
END:STANDARD
BEGIN:DAYLIGHT
TZOFFSETFROM:-0800
TZOFFSETTO:-0700
TZNAME:PDT
DTSTART:20260308T100000
END:DAYLIGHT
BEGIN:STANDARD
TZOFFSETFROM:-0700
TZOFFSETTO:-0800
TZNAME:PST
DTSTART:20261101T090000
END:STANDARD
END:VTIMEZONE
BEGIN:VEVENT
DTSTART;TZID=America/Los_Angeles:20250317T170000
DTEND;TZID=America/Los_Angeles:20250317T200000
DTSTAMP:20260420T052511
CREATED:20250110T220440Z
LAST-MODIFIED:20250110T220443Z
UID:2540-1742230800-1742241600@aroundalhambra.org
SUMMARY:Downtown Alhambra St. Patty's Day Pub Crawl
DESCRIPTION:Downtown Alhambra Business Association will celebrate their 14th Annual St. Patrick’s Day Pub Crawl on Monday\, March 17th. \n\n\n\nPlease visit businesses on Main Street for St. Patrick’s Day promotions and celebrations. For more information and to RSVP for the Pub Crawl\, visit http://www.downtownalhambra.com or visit Instagram and Tik Tok at @downtownalhambra.
URL:https://aroundalhambra.org/event/downtown-alhambra-st-pattys-day-pub-crawl/
LOCATION:Main Street\, Alhambra\, Main Street\, Alhambra\, California\, 91801\, United States
END:VEVENT
END:VCALENDAR