BEGIN:VCALENDAR
VERSION:2.0
PRODID:-//Around Alhambra - ECPv6.15.20//NONSGML v1.0//EN
CALSCALE:GREGORIAN
METHOD:PUBLISH
X-WR-CALNAME:Around Alhambra
X-ORIGINAL-URL:https://aroundalhambra.org
X-WR-CALDESC:Events for Around Alhambra
REFRESH-INTERVAL;VALUE=DURATION:PT1H
X-Robots-Tag:noindex
X-PUBLISHED-TTL:PT1H
BEGIN:VTIMEZONE
TZID:America/Los_Angeles
BEGIN:DAYLIGHT
TZOFFSETFROM:-0800
TZOFFSETTO:-0700
TZNAME:PDT
DTSTART:20250309T100000
END:DAYLIGHT
BEGIN:STANDARD
TZOFFSETFROM:-0700
TZOFFSETTO:-0800
TZNAME:PST
DTSTART:20251102T090000
END:STANDARD
BEGIN:DAYLIGHT
TZOFFSETFROM:-0800
TZOFFSETTO:-0700
TZNAME:PDT
DTSTART:20260308T100000
END:DAYLIGHT
BEGIN:STANDARD
TZOFFSETFROM:-0700
TZOFFSETTO:-0800
TZNAME:PST
DTSTART:20261101T090000
END:STANDARD
BEGIN:DAYLIGHT
TZOFFSETFROM:-0800
TZOFFSETTO:-0700
TZNAME:PDT
DTSTART:20270314T100000
END:DAYLIGHT
BEGIN:STANDARD
TZOFFSETFROM:-0700
TZOFFSETTO:-0800
TZNAME:PST
DTSTART:20271107T090000
END:STANDARD
END:VTIMEZONE
BEGIN:VEVENT
DTSTART;TZID=America/Los_Angeles:20260423T110000
DTEND;TZID=America/Los_Angeles:20260423T120000
DTSTAMP:20260419T072809
CREATED:20260407T190845Z
LAST-MODIFIED:20260407T190850Z
UID:5308-1776942000-1776945600@aroundalhambra.org
SUMMARY:Handel's Homemade Ice Cream Grand Opening
DESCRIPTION:
URL:https://aroundalhambra.org/event/handels-homemade-ice-cream-grand-opening/
LOCATION:1172 S. Fremont Ave\, Alhambra
ATTACH;FMTTYPE=image/png:https://aroundalhambra.org/wp-content/uploads/2026/04/Image_20260407_115400_951.png
END:VEVENT
BEGIN:VEVENT
DTSTART;TZID=America/Los_Angeles:20260430T110000
DTEND;TZID=America/Los_Angeles:20260430T130000
DTSTAMP:20260419T072809
CREATED:20260406T204630Z
LAST-MODIFIED:20260406T212336Z
UID:5298-1777546800-1777554000@aroundalhambra.org
SUMMARY:2026 State of the City
DESCRIPTION:
URL:https://aroundalhambra.org/event/2026-state-of-the-city/
ATTACH;FMTTYPE=image/png:https://aroundalhambra.org/wp-content/uploads/2026/04/Mayor1.png
END:VEVENT
END:VCALENDAR