BEGIN:VCALENDAR
VERSION:2.0
PRODID:-//Around Alhambra - ECPv6.15.20//NONSGML v1.0//EN
CALSCALE:GREGORIAN
METHOD:PUBLISH
X-WR-CALNAME:Around Alhambra
X-ORIGINAL-URL:https://aroundalhambra.org
X-WR-CALDESC:Events for Around Alhambra
REFRESH-INTERVAL;VALUE=DURATION:PT1H
X-Robots-Tag:noindex
X-PUBLISHED-TTL:PT1H
BEGIN:VTIMEZONE
TZID:America/Los_Angeles
BEGIN:DAYLIGHT
TZOFFSETFROM:-0800
TZOFFSETTO:-0700
TZNAME:PDT
DTSTART:20240310T100000
END:DAYLIGHT
BEGIN:STANDARD
TZOFFSETFROM:-0700
TZOFFSETTO:-0800
TZNAME:PST
DTSTART:20241103T090000
END:STANDARD
BEGIN:DAYLIGHT
TZOFFSETFROM:-0800
TZOFFSETTO:-0700
TZNAME:PDT
DTSTART:20250309T100000
END:DAYLIGHT
BEGIN:STANDARD
TZOFFSETFROM:-0700
TZOFFSETTO:-0800
TZNAME:PST
DTSTART:20251102T090000
END:STANDARD
BEGIN:DAYLIGHT
TZOFFSETFROM:-0800
TZOFFSETTO:-0700
TZNAME:PDT
DTSTART:20260308T100000
END:DAYLIGHT
BEGIN:STANDARD
TZOFFSETFROM:-0700
TZOFFSETTO:-0800
TZNAME:PST
DTSTART:20261101T090000
END:STANDARD
END:VTIMEZONE
BEGIN:VEVENT
DTSTART;TZID=America/Los_Angeles:20250303T180000
DTEND;TZID=America/Los_Angeles:20250303T190000
DTSTAMP:20260420T080014
CREATED:20250220T221930Z
LAST-MODIFIED:20250220T221934Z
UID:2903-1741024800-1741028400@aroundalhambra.org
SUMMARY:YOUR VOICE MATTERS: JOIN THE CONVERSATION ON SUSTAINABILITY!
DESCRIPTION:The choices we make today will shape our future for generations to come. That’s why we’re inviting you to a special town hall meeting with our City Councilmembers to discuss sustainability efforts in Alhambra. \n\n\n\nThis is your chance to ask questions\, share ideas\, and be part of the conversation about how we can create a greener\, more resilient community. Your input will inform which strategies\, projects and priorities should be included in the City’s first-ever Comprehensive Environmental Sustainability Plan. \n\n\n\nNo registration required. Light refreshments will be served. All ages welcome. Attend any district’s event that fits your schedule. \n\n\n\nCouncilmember Noya Wang (District 4) \n\n\n\nMonday\, 3/3 | 6-7 PM | Granada Park Gym\, 2000 W Hellman Ave
URL:https://aroundalhambra.org/event/your-voice-matters-join-the-conversation-on-sustainability-3/
LOCATION:Granada Park Gym\, 2000 W Hellman Ave\, Alhambra\, California\, United States
ATTACH;FMTTYPE=image/png:https://aroundalhambra.org/wp-content/uploads/2025/02/Document-2-1.png
END:VEVENT
END:VCALENDAR