BEGIN:VCALENDAR
VERSION:2.0
PRODID:-//Around Alhambra - ECPv6.15.20//NONSGML v1.0//EN
CALSCALE:GREGORIAN
METHOD:PUBLISH
X-ORIGINAL-URL:https://aroundalhambra.org
X-WR-CALDESC:Events for Around Alhambra
REFRESH-INTERVAL;VALUE=DURATION:PT1H
X-Robots-Tag:noindex
X-PUBLISHED-TTL:PT1H
BEGIN:VTIMEZONE
TZID:UTC
BEGIN:STANDARD
TZOFFSETFROM:+0000
TZOFFSETTO:+0000
TZNAME:UTC
DTSTART:20230101T000000
END:STANDARD
END:VTIMEZONE
BEGIN:VEVENT
DTSTART;TZID=UTC:20240926T190000
DTEND;TZID=UTC:20240926T200000
DTSTAMP:20260422T100338
CREATED:20240823T062901Z
LAST-MODIFIED:20250125T032415Z
UID:893-1727377200-1727380800@aroundalhambra.org
SUMMARY:Swinging for the Fences — Alhambra’s Baseball Hall of Famer Ralph Kiner
DESCRIPTION:Join Alhambra Historical Society at 7:00 p.m. on Thursday\, September 26\, 2024\, as they present their fall program “Swinging for the Fences — Alhambra’s Baseball Hall of Famer Ralph Kiner.” The program will take place at the Alhambra Masonic Center\, 9 West Woodward Avenue\, Alhambra\, CA. The event is free to the general public and all are invited to attend.
URL:https://aroundalhambra.org/event/swinging-for-the-fences-alhambras-baseball-hall-of-famer-ralph-kiner/
LOCATION:Alhambra Masonic Center\, 9 West Woodward Avenue\, Alhambra\, California\, 91801\, United States
ATTACH;FMTTYPE=image/jpeg:https://aroundalhambra.org/wp-content/uploads/2024/08/Kiner.2.statue-1.jpg
END:VEVENT
END:VCALENDAR