BEGIN:VCALENDAR
VERSION:2.0
PRODID:-//Around Alhambra - ECPv6.15.20//NONSGML v1.0//EN
CALSCALE:GREGORIAN
METHOD:PUBLISH
X-WR-CALNAME:Around Alhambra
X-ORIGINAL-URL:https://aroundalhambra.org
X-WR-CALDESC:Events for Around Alhambra
REFRESH-INTERVAL;VALUE=DURATION:PT1H
X-Robots-Tag:noindex
X-PUBLISHED-TTL:PT1H
BEGIN:VTIMEZONE
TZID:UTC
BEGIN:STANDARD
TZOFFSETFROM:+0000
TZOFFSETTO:+0000
TZNAME:UTC
DTSTART:20230101T000000
END:STANDARD
END:VTIMEZONE
BEGIN:VEVENT
DTSTART;TZID=UTC:20240919T120000
DTEND;TZID=UTC:20240919T130000
DTSTAMP:20260420T144818
CREATED:20240911T045334Z
LAST-MODIFIED:20250125T032415Z
UID:1396-1726747200-1726750800@aroundalhambra.org
SUMMARY:VACE Lunch and Learn Webinar Series
DESCRIPTION:The Business Education Webinar Series aims to provide insights\, strategies\, and practical knowledge to empower professionals and business leaders in building renewal and resilience within their organizations. The series will cover a range of topics\, addressing current and anticipated challenges and opportunities in the business world.
URL:https://aroundalhambra.org/event/vace-lunch-and-learn-webinar-series/
ATTACH;FMTTYPE=image/png:https://aroundalhambra.org/wp-content/uploads/2024/09/VACE-Lunch-and-Learn-Webinar-10.png
END:VEVENT
END:VCALENDAR