BEGIN:VCALENDAR
VERSION:2.0
PRODID:-//Around Alhambra - ECPv6.15.20//NONSGML v1.0//EN
CALSCALE:GREGORIAN
METHOD:PUBLISH
X-ORIGINAL-URL:https://aroundalhambra.org
X-WR-CALDESC:Events for Around Alhambra
REFRESH-INTERVAL;VALUE=DURATION:PT1H
X-Robots-Tag:noindex
X-PUBLISHED-TTL:PT1H
BEGIN:VTIMEZONE
TZID:America/Los_Angeles
BEGIN:DAYLIGHT
TZOFFSETFROM:-0800
TZOFFSETTO:-0700
TZNAME:PDT
DTSTART:20230312T100000
END:DAYLIGHT
BEGIN:STANDARD
TZOFFSETFROM:-0700
TZOFFSETTO:-0800
TZNAME:PST
DTSTART:20231105T090000
END:STANDARD
BEGIN:DAYLIGHT
TZOFFSETFROM:-0800
TZOFFSETTO:-0700
TZNAME:PDT
DTSTART:20240310T100000
END:DAYLIGHT
BEGIN:STANDARD
TZOFFSETFROM:-0700
TZOFFSETTO:-0800
TZNAME:PST
DTSTART:20241103T090000
END:STANDARD
BEGIN:DAYLIGHT
TZOFFSETFROM:-0800
TZOFFSETTO:-0700
TZNAME:PDT
DTSTART:20250309T100000
END:DAYLIGHT
BEGIN:STANDARD
TZOFFSETFROM:-0700
TZOFFSETTO:-0800
TZNAME:PST
DTSTART:20251102T090000
END:STANDARD
END:VTIMEZONE
BEGIN:VEVENT
DTSTART;TZID=America/Los_Angeles:20240808T113000
DTEND;TZID=America/Los_Angeles:20240808T130000
DTSTAMP:20260420T162405
CREATED:20240710T125806Z
LAST-MODIFIED:20250125T032127Z
UID:572-1723116600-1723122000@aroundalhambra.org
SUMMARY:Alhambra Chamber Leadership Luncheon
DESCRIPTION:
URL:https://aroundalhambra.org/event/alhambra-chamber-leadership-luncheon/
LOCATION:The Granada LA\, 17 S 1st St\, Alhambra\, 91801\, United States
CATEGORIES:chamber event
END:VEVENT
END:VCALENDAR