BEGIN:VCALENDAR
VERSION:2.0
PRODID:-//Around Alhambra - ECPv6.15.20//NONSGML v1.0//EN
CALSCALE:GREGORIAN
METHOD:PUBLISH
X-ORIGINAL-URL:https://aroundalhambra.org
X-WR-CALDESC:Events for Around Alhambra
REFRESH-INTERVAL;VALUE=DURATION:PT1H
X-Robots-Tag:noindex
X-PUBLISHED-TTL:PT1H
BEGIN:VTIMEZONE
TZID:America/Los_Angeles
BEGIN:DAYLIGHT
TZOFFSETFROM:-0800
TZOFFSETTO:-0700
TZNAME:PDT
DTSTART:20240310T100000
END:DAYLIGHT
BEGIN:STANDARD
TZOFFSETFROM:-0700
TZOFFSETTO:-0800
TZNAME:PST
DTSTART:20241103T090000
END:STANDARD
BEGIN:DAYLIGHT
TZOFFSETFROM:-0800
TZOFFSETTO:-0700
TZNAME:PDT
DTSTART:20250309T100000
END:DAYLIGHT
BEGIN:STANDARD
TZOFFSETFROM:-0700
TZOFFSETTO:-0800
TZNAME:PST
DTSTART:20251102T090000
END:STANDARD
BEGIN:DAYLIGHT
TZOFFSETFROM:-0800
TZOFFSETTO:-0700
TZNAME:PDT
DTSTART:20260308T100000
END:DAYLIGHT
BEGIN:STANDARD
TZOFFSETFROM:-0700
TZOFFSETTO:-0800
TZNAME:PST
DTSTART:20261101T090000
END:STANDARD
END:VTIMEZONE
BEGIN:VEVENT
DTSTART;TZID=America/Los_Angeles:20251102T110000
DTEND;TZID=America/Los_Angeles:20251102T160000
DTSTAMP:20260419T163118
CREATED:20251014T180942Z
LAST-MODIFIED:20251014T180945Z
UID:4742-1762081200-1762099200@aroundalhambra.org
SUMMARY:Best of Downtown Alhambra Awards
DESCRIPTION:Downtown Alhambra is rolling out the red carpet for our local businesses! Join us Sunday\, November 2nd at 1PM at the Alhambra Main Street Market (Renaissance Plaza\, Main & Garfield) for the first-ever Best of Downtown Alhambra Awards. \n\n\n\nOver the past month\, residents and visitors nominated and voted for their favorite businesses across multiple categories from Best Restaurant and Best Dessert Spot to Best Entertainment and Favorite Business Overall. This new tradition is designed to spotlight the heart of our local economy and celebrate the hardworking business owners who make Alhambra special. \n\n\n\nEvent Details:-Sunday\, November 2nd-1:00 PM: Awards Ceremony– Renaissance Plaza (Main St. & Garfield Ave.)– Live music\, local vendors\, and family fun \n\n\n\nThe Awards Ceremony will feature local dignitaries presenting honors to the winners\, plus live music\, shopping\, and community fun as part of the monthly Alhambra Main Street Market. \n\n\n\nCome cheer for your favorites\, meet your neighbors\, and experience the best of Downtown Alhambra!
URL:https://aroundalhambra.org/event/best-of-downtown-alhambra-awards/
LOCATION:Renaissance Plaza: 1 E. Main St. Alhambra Ca 91801
END:VEVENT
END:VCALENDAR