BEGIN:VCALENDAR
VERSION:2.0
PRODID:-//Around Alhambra - ECPv6.15.20//NONSGML v1.0//EN
CALSCALE:GREGORIAN
METHOD:PUBLISH
X-ORIGINAL-URL:https://aroundalhambra.org
X-WR-CALDESC:Events for Around Alhambra
REFRESH-INTERVAL;VALUE=DURATION:PT1H
X-Robots-Tag:noindex
X-PUBLISHED-TTL:PT1H
BEGIN:VTIMEZONE
TZID:America/Los_Angeles
BEGIN:DAYLIGHT
TZOFFSETFROM:-0800
TZOFFSETTO:-0700
TZNAME:PDT
DTSTART:20240310T100000
END:DAYLIGHT
BEGIN:STANDARD
TZOFFSETFROM:-0700
TZOFFSETTO:-0800
TZNAME:PST
DTSTART:20241103T090000
END:STANDARD
BEGIN:DAYLIGHT
TZOFFSETFROM:-0800
TZOFFSETTO:-0700
TZNAME:PDT
DTSTART:20250309T100000
END:DAYLIGHT
BEGIN:STANDARD
TZOFFSETFROM:-0700
TZOFFSETTO:-0800
TZNAME:PST
DTSTART:20251102T090000
END:STANDARD
BEGIN:DAYLIGHT
TZOFFSETFROM:-0800
TZOFFSETTO:-0700
TZNAME:PDT
DTSTART:20260308T100000
END:DAYLIGHT
BEGIN:STANDARD
TZOFFSETFROM:-0700
TZOFFSETTO:-0800
TZNAME:PST
DTSTART:20261101T090000
END:STANDARD
END:VTIMEZONE
BEGIN:VEVENT
DTSTART;TZID=America/Los_Angeles:20250202T100000
DTEND;TZID=America/Los_Angeles:20250202T140000
DTSTAMP:20260420T062722
CREATED:20250110T003439Z
LAST-MODIFIED:20250110T003447Z
UID:2516-1738490400-1738504800@aroundalhambra.org
SUMMARY:Alhambra Main Street Market
DESCRIPTION:Welcome to Alhambra’s Main Street Market\, your go-to destination for the finest local goods and unique finds in Downtown Alhambra. Held every first Sunday of the month from 10am to 2pm at the Renaissance Plaza on the corner of Main Street and Garfield Avenue\, our market is a vibrant community hub where residents and visitors alike can explore an array of handcrafted goods\, specialty items\, music and entertainment. \n\n\n\nAt Main Street Market\, we pride ourselves on supporting local vendors and fostering a sense of community. Our market is more than just a place to shop; it’s a place to connect\, discover\, and enjoy. In addition to a wide variety of vendors\, we feature local musical artists\, bands\, DJs\, and artists\, adding to the lively and enjoyable atmosphere. \n\n\n\nWhether you’re looking for the perfect gift\, a delicious meal\, or simply a pleasant place to spend your day\, Main Street Market has something for everyone. Join us and experience the charm and variety that only a local market can offer. We look forward to welcoming you to Main Street Market!
URL:https://aroundalhambra.org/event/alhambra-main-street-market/
LOCATION:Renaissance Plaza\, 1 E. Main St.\, Alhambra\, California\, 91801\, United States
END:VEVENT
BEGIN:VEVENT
DTSTART;TZID=America/Los_Angeles:20250214T170000
DTEND;TZID=America/Los_Angeles:20250214T200000
DTSTAMP:20260420T062722
CREATED:20250110T220259Z
LAST-MODIFIED:20250110T220302Z
UID:2538-1739552400-1739563200@aroundalhambra.org
SUMMARY:Downtown Alhambra Valentine's Day Love Quest Passport Event
DESCRIPTION:Join us in Downtown Alhambra on Friday\, February 14th for a special Valentine’s Day event called “LOVE QUEST”! Participate in an exciting passport quest to win prizes and enjoy a night of fun. \n\n\n\nStart by picking up your Love Quest passport at Ra House of CBD at 5:00 PM. Capture moments at our photo op and share them on Instagram. Visit at least three participating business locations to collect stickers\, with various promotions available at each stop. Once you’ve gathered three stickers\, head to The Granada L.A. for a FREE dance class and a chance to win a gift bag! The first 25 completed passports earn prizes\, and everyone who attends the class gets free entry to the club afterward. \n\n\n\nDon’t miss out on this memorable Valentine’s experience—grab your map and join the quest! 
URL:https://aroundalhambra.org/event/downtown-alhambra-valentines-day-love-quest-passport-event/
LOCATION:Main Street\, Alhambra\, Main Street\, Alhambra\, California\, 91801\, United States
END:VEVENT
END:VCALENDAR