BEGIN:VCALENDAR
VERSION:2.0
PRODID:-//Around Alhambra - ECPv6.15.20//NONSGML v1.0//EN
CALSCALE:GREGORIAN
METHOD:PUBLISH
X-ORIGINAL-URL:https://aroundalhambra.org
X-WR-CALDESC:Events for Around Alhambra
REFRESH-INTERVAL;VALUE=DURATION:PT1H
X-Robots-Tag:noindex
X-PUBLISHED-TTL:PT1H
BEGIN:VTIMEZONE
TZID:America/Los_Angeles
BEGIN:DAYLIGHT
TZOFFSETFROM:-0800
TZOFFSETTO:-0700
TZNAME:PDT
DTSTART:20240310T100000
END:DAYLIGHT
BEGIN:STANDARD
TZOFFSETFROM:-0700
TZOFFSETTO:-0800
TZNAME:PST
DTSTART:20241103T090000
END:STANDARD
BEGIN:DAYLIGHT
TZOFFSETFROM:-0800
TZOFFSETTO:-0700
TZNAME:PDT
DTSTART:20250309T100000
END:DAYLIGHT
BEGIN:STANDARD
TZOFFSETFROM:-0700
TZOFFSETTO:-0800
TZNAME:PST
DTSTART:20251102T090000
END:STANDARD
BEGIN:DAYLIGHT
TZOFFSETFROM:-0800
TZOFFSETTO:-0700
TZNAME:PDT
DTSTART:20260308T100000
END:DAYLIGHT
BEGIN:STANDARD
TZOFFSETFROM:-0700
TZOFFSETTO:-0800
TZNAME:PST
DTSTART:20261101T090000
END:STANDARD
END:VTIMEZONE
BEGIN:VEVENT
DTSTART;TZID=America/Los_Angeles:20250405T080000
DTEND;TZID=America/Los_Angeles:20250405T120000
DTSTAMP:20260420T175638
CREATED:20250218T040128Z
LAST-MODIFIED:20250308T052400Z
UID:2829-1743840000-1743854400@aroundalhambra.org
SUMMARY:Alhambra Recycles Event
DESCRIPTION:The City of Alhambra and Republic Services are happy to announce our next biannual Alhambra Recycles Event will occur on April 5! \n\n\n\nFrom 8:00 AM to 12:00 PM\, bring documents to be shredded\, electronic waste\, plastic bottles\, and aluminum cans to be recycled\, and containers to collect free compost to Granada Park (2000 W Hellman Avenue). \n\n\n\nPlease note NO household hazardous waste will be accepted\, NO batteries will be accepted\, and NO lightbulbs will be accepted. \n\n\n\nFor any questions\, reach out to Alhambra’s Solid Waste Team at recycle@cityofalhambra.org or 626-570-3249. 
URL:https://aroundalhambra.org/event/alhambra-recycles-event-2/
LOCATION:The Granada LA\, 17 S 1st St\, Alhambra\, 91801\, United States
CATEGORIES:city event
END:VEVENT
BEGIN:VEVENT
DTSTART;TZID=America/Los_Angeles:20250426T080000
DTEND;TZID=America/Los_Angeles:20250426T120000
DTSTAMP:20260420T175638
CREATED:20250321T233449Z
LAST-MODIFIED:20250321T233453Z
UID:3180-1745654400-1745668800@aroundalhambra.org
SUMMARY:Alhambra Day of Service 
DESCRIPTION:
URL:https://aroundalhambra.org/event/alhambra-day-of-service-3/
CATEGORIES:chamber event,city event
END:VEVENT
BEGIN:VEVENT
DTSTART;TZID=America/Los_Angeles:20250427T080000
DTEND;TZID=America/Los_Angeles:20250427T130000
DTSTAMP:20260420T175638
CREATED:20250308T052653Z
LAST-MODIFIED:20250308T052658Z
UID:3135-1745740800-1745758800@aroundalhambra.org
SUMMARY:Eco Fair
DESCRIPTION:Celebrate sustainability at the Eco Fair on Sunday\, April 27\, from 8 AM – 1 PM! Enjoy games\, raffles\, and eco-friendly vendors while shopping at the weekly Farmers Market! \n\n\n\nInterested in becoming a vendor? Apply by April 3! \n\n\n\nHave questions? Call (626) 300-1543.
URL:https://aroundalhambra.org/event/eco-fair/
LOCATION:100 S 2nd St\, Alhambra\, California\, 91801
CATEGORIES:city event
END:VEVENT
BEGIN:VEVENT
DTSTART;TZID=America/Los_Angeles:20250515T180000
DTEND;TZID=America/Los_Angeles:20250515T190000
DTSTAMP:20260420T175638
CREATED:20250506T002838Z
LAST-MODIFIED:20250506T003053Z
UID:3519-1747332000-1747335600@aroundalhambra.org
SUMMARY:Neighborhood Watch & Hazard Mitigation Plan Meeting
DESCRIPTION:
URL:https://aroundalhambra.org/event/neighborhood-watch-hazard-mitigation-plan-meeting/
LOCATION:Alhambra Park\, 500 N Palm Ave\, Alhambra\, California\, 91801\, United States
CATEGORIES:city event
END:VEVENT
BEGIN:VEVENT
DTSTART;TZID=America/Los_Angeles:20250517T130000
DTEND;TZID=America/Los_Angeles:20250517T140000
DTSTAMP:20260420T175638
CREATED:20250506T003255Z
LAST-MODIFIED:20250506T003310Z
UID:3530-1747486800-1747490400@aroundalhambra.org
SUMMARY:Neighborhood Watch & Hazard Mitigation Plan Meeting
DESCRIPTION:
URL:https://aroundalhambra.org/event/neighborhood-watch-hazard-mitigation-plan-meeting-2/
LOCATION:Story Park\, 210 N Chapel Ave\, Alhambra\, California\, 91801\, United States
CATEGORIES:city event
END:VEVENT
BEGIN:VEVENT
DTSTART;TZID=America/Los_Angeles:20250526T100000
DTEND;TZID=America/Los_Angeles:20250526T120000
DTSTAMP:20260420T175638
CREATED:20250506T002111Z
LAST-MODIFIED:20250506T002112Z
UID:3499-1748253600-1748260800@aroundalhambra.org
SUMMARY:Memorial Day Ceremony
DESCRIPTION:Commemorate Memorial Day with the City of Alhambra and American Legion Post 139 on Monday\, May 26 at the Alhambra Park Veterans Memorial (500 N. Palm Ave.). \n\n\n\nEnjoy live music and a continental breakfast starting at 10:00 a.m.\, followed by the Memorial Day ceremony at 11:00 a.m. \n\n\n\nJoin us as we honor and remember those who gave their lives in service to our country.
URL:https://aroundalhambra.org/event/memorial-day-ceremony/
LOCATION:Alhambra Park\, 500 N Palm Ave\, Alhambra\, California\, 91801\, United States
CATEGORIES:city event
END:VEVENT
BEGIN:VEVENT
DTSTART;TZID=America/Los_Angeles:20250529T180000
DTEND;TZID=America/Los_Angeles:20250529T190000
DTSTAMP:20260420T175638
CREATED:20250506T003414Z
LAST-MODIFIED:20250506T003416Z
UID:3538-1748541600-1748545200@aroundalhambra.org
SUMMARY:Neighborhood Watch & Hazard Mitigation Plan Meeting
DESCRIPTION:
URL:https://aroundalhambra.org/event/neighborhood-watch-hazard-mitigation-plan-meeting-3/
LOCATION:Reese Hall\, Alhambra Civic Center Library\, 101 S. First St.\, Alhambr\, California\, 91801\, United States
CATEGORIES:city event
END:VEVENT
BEGIN:VEVENT
DTSTART;TZID=America/Los_Angeles:20250530T180000
DTEND;TZID=America/Los_Angeles:20250530T190000
DTSTAMP:20260420T175638
CREATED:20250506T003506Z
LAST-MODIFIED:20250506T003508Z
UID:3541-1748628000-1748631600@aroundalhambra.org
SUMMARY:Neighborhood Watch & Hazard Mitigation Plan Meeting
DESCRIPTION:
URL:https://aroundalhambra.org/event/neighborhood-watch-hazard-mitigation-plan-meeting-4/
LOCATION:Granada Park\, 000 W Hellman Ave\, Alhambra\, California\, 91803\, United States
CATEGORIES:city event
END:VEVENT
BEGIN:VEVENT
DTSTART;TZID=America/Los_Angeles:20250531T130000
DTEND;TZID=America/Los_Angeles:20250531T140000
DTSTAMP:20260420T175638
CREATED:20250506T003616Z
LAST-MODIFIED:20250506T003618Z
UID:3546-1748696400-1748700000@aroundalhambra.org
SUMMARY:Neighborhood Watch & Hazard Mitigation Plan Meeting
DESCRIPTION:
URL:https://aroundalhambra.org/event/neighborhood-watch-hazard-mitigation-plan-meeting-5/
LOCATION:Emery Park\, 2709 Mimosa St\, Alhambra\, California\, 91801\, United States
CATEGORIES:city event
END:VEVENT
BEGIN:VEVENT
DTSTART;TZID=America/Los_Angeles:20250602T113000
DTEND;TZID=America/Los_Angeles:20250808T160000
DTSTAMP:20260420T175638
CREATED:20250510T011921Z
LAST-MODIFIED:20250510T011923Z
UID:3613-1748863800-1754668800@aroundalhambra.org
SUMMARY:Summer Food Service Program
DESCRIPTION:FREE Summer Meals for Kids & Teens!  \n\n\n\nFrom June 2 – August 8\, 2025\, kids and teens ages 1–18 can enjoy FREE\, nutritious lunches and snacks—no registration required! \n\n\n\n Info: (626) 570-5081 \n\n\n\nhttps://ow.ly/eGBr50VLxLP
URL:https://aroundalhambra.org/event/summer-food-service-program/
CATEGORIES:city event
END:VEVENT
BEGIN:VEVENT
DTSTART;TZID=America/Los_Angeles:20250704T160000
DTEND;TZID=America/Los_Angeles:20250704T210000
DTSTAMP:20260420T175638
CREATED:20250701T013748Z
LAST-MODIFIED:20250701T013904Z
UID:4067-1751644800-1751662800@aroundalhambra.org
SUMMARY:City of Alhambra Fourth of July Celebration
DESCRIPTION:Celebrate Independence Day the Alhambra way! You’re invited to a festive Fourth of July celebration on Friday\, July 4\, at Almansor Park. This family-friendly event features food\, games\, live music\, and a fireworks finale — perfect for a summer night under the stars.
URL:https://aroundalhambra.org/event/city-of-alhambra-fourth-of-july-celebration/
LOCATION:Almansor Park\, 800 S Almansor St\, Alhambra\, California\, 91801\, United States
CATEGORIES:city event
END:VEVENT
BEGIN:VEVENT
DTSTART;TZID=America/Los_Angeles:20250805T180000
DTEND;TZID=America/Los_Angeles:20250805T203000
DTSTAMP:20260420T175638
CREATED:20250724T031431Z
LAST-MODIFIED:20250731T223408Z
UID:4226-1754416800-1754425800@aroundalhambra.org
SUMMARY:National Night Out
DESCRIPTION:The Alhambra Police Department is excited to host this year’s National Night Out celebration on Tuesday\, August 5\, from 6 PM to 8:30 PM—and this year\, the event is happening in front of the Alhambra Police Headquarters (211 S. First Street)!Attendees will have the chance to watch live demonstrations and interact with officers\, SWAT team members\, motor personnel\, and K-9 units. It’s a great way to get a behind-the-scenes look at the department and learn more about the important work being done to keep Alhambra safe.
URL:https://aroundalhambra.org/event/national-night-out/
LOCATION:Alhambra Police Headquarters\, 211 S First Street\, Alhambra\, California\, 91801\, United States
CATEGORIES:city event
END:VEVENT
BEGIN:VEVENT
DTSTART;TZID=America/Los_Angeles:20250806T190000
DTEND;TZID=America/Los_Angeles:20250806T190000
DTSTAMP:20260420T175638
CREATED:20250806T050924Z
LAST-MODIFIED:20250806T050924Z
UID:4414-1754506800-1754506800@aroundalhambra.org
SUMMARY:City of Alhambra Parks and Recreation Commission Regular Meeting
DESCRIPTION:
URL:https://aroundalhambra.org/event/city-of-alhambra-parks-and-recreation-commission-regular-meeting/
CATEGORIES:city event
END:VEVENT
BEGIN:VEVENT
DTSTART;TZID=America/Los_Angeles:20250811T180000
DTEND;TZID=America/Los_Angeles:20250811T180000
DTSTAMP:20260420T175638
CREATED:20250806T050925Z
LAST-MODIFIED:20250806T050925Z
UID:4415-1754935200-1754935200@aroundalhambra.org
SUMMARY:City of Alhambra City Council Regular Meeting
DESCRIPTION:
URL:https://aroundalhambra.org/event/city-of-alhambra-city-council-regular-meeting/
CATEGORIES:city event
END:VEVENT
BEGIN:VEVENT
DTSTART;TZID=America/Los_Angeles:20250812T180000
DTEND;TZID=America/Los_Angeles:20250812T180000
DTSTAMP:20260420T175638
CREATED:20250806T050925Z
LAST-MODIFIED:20250806T050925Z
UID:4416-1755021600-1755021600@aroundalhambra.org
SUMMARY:City of Alhambra Board of Library Trustees Regular Meeting
DESCRIPTION:
URL:https://aroundalhambra.org/event/city-of-alhambra-board-of-library-trustees-regular-meeting/
CATEGORIES:city event
END:VEVENT
BEGIN:VEVENT
DTSTART;TZID=America/Los_Angeles:20250812T180000
DTEND;TZID=America/Los_Angeles:20250812T180000
DTSTAMP:20260420T175638
CREATED:20250806T050925Z
LAST-MODIFIED:20250806T050925Z
UID:4417-1755021600-1755021600@aroundalhambra.org
SUMMARY:City of Alhambra Youth Commission Regular Meeting
DESCRIPTION:
URL:https://aroundalhambra.org/event/city-of-alhambra-youth-commission-regular-meeting/
CATEGORIES:city event
END:VEVENT
BEGIN:VEVENT
DTSTART;TZID=America/Los_Angeles:20250812T190000
DTEND;TZID=America/Los_Angeles:20250812T190000
DTSTAMP:20260420T175638
CREATED:20250806T050928Z
LAST-MODIFIED:20250806T050931Z
UID:4418-1755025200-1755025200@aroundalhambra.org
SUMMARY:City of Alhambra Design Review Board Regular Meeting
DESCRIPTION:
URL:https://aroundalhambra.org/event/city-of-alhambra-design-review-board-regular-meeting/
CATEGORIES:city event
END:VEVENT
BEGIN:VEVENT
DTSTART;TZID=America/Los_Angeles:20250815T180000
DTEND;TZID=America/Los_Angeles:20250815T210000
DTSTAMP:20260420T175638
CREATED:20250806T050918Z
LAST-MODIFIED:20250806T050918Z
UID:4413-1755280800-1755291600@aroundalhambra.org
SUMMARY:Lei’d Back Luau Dinner Dance
DESCRIPTION:Join us for an island-inspired evening at the Joslyn Adult Center on Friday\, August 15 from 6–9 PM. Enjoy delicious luau-style food\, music\, and dancing with friends!\n$12 per person – Pre-registration required.
URL:https://aroundalhambra.org/event/leid-back-luau-dinner-dance/
CATEGORIES:city event
END:VEVENT
BEGIN:VEVENT
DTSTART;TZID=America/Los_Angeles:20250818T190000
DTEND;TZID=America/Los_Angeles:20250818T190000
DTSTAMP:20260420T175638
CREATED:20250806T050928Z
LAST-MODIFIED:20250806T050931Z
UID:4419-1755543600-1755543600@aroundalhambra.org
SUMMARY:City of Alhambra Planning Commission Regular Meeting
DESCRIPTION:
URL:https://aroundalhambra.org/event/city-of-alhambra-planning-commission-regular-meeting/
CATEGORIES:city event
END:VEVENT
BEGIN:VEVENT
DTSTART;TZID=America/Los_Angeles:20250820T190000
DTEND;TZID=America/Los_Angeles:20250820T190000
DTSTAMP:20260420T175638
CREATED:20250806T050929Z
LAST-MODIFIED:20250806T050931Z
UID:4420-1755716400-1755716400@aroundalhambra.org
SUMMARY:City of Alhambra Arts & Cultural Events Committee Regular Meeting
DESCRIPTION:
URL:https://aroundalhambra.org/event/city-of-alhambra-arts-cultural-events-committee-regular-meeting/
CATEGORIES:city event
END:VEVENT
BEGIN:VEVENT
DTSTART;TZID=America/Los_Angeles:20250825T180000
DTEND;TZID=America/Los_Angeles:20250825T180000
DTSTAMP:20260420T175638
CREATED:20250806T050929Z
LAST-MODIFIED:20250806T050931Z
UID:4421-1756144800-1756144800@aroundalhambra.org
SUMMARY:City of Alhambra City Council Regular Meeting
DESCRIPTION:
URL:https://aroundalhambra.org/event/city-of-alhambra-city-council-regular-meeting-2/
CATEGORIES:city event
END:VEVENT
BEGIN:VEVENT
DTSTART;TZID=America/Los_Angeles:20250826T190000
DTEND;TZID=America/Los_Angeles:20250826T190000
DTSTAMP:20260420T175638
CREATED:20250806T050930Z
LAST-MODIFIED:20250806T050931Z
UID:4422-1756234800-1756234800@aroundalhambra.org
SUMMARY:City of Alhambra Design Review Board Regular Meeting
DESCRIPTION:
URL:https://aroundalhambra.org/event/city-of-alhambra-design-review-board-regular-meeting-2/
CATEGORIES:city event
END:VEVENT
BEGIN:VEVENT
DTSTART;TZID=America/Los_Angeles:20250901T190000
DTEND;TZID=America/Los_Angeles:20250901T190000
DTSTAMP:20260420T175638
CREATED:20250806T050943Z
LAST-MODIFIED:20250806T050943Z
UID:4428-1756753200-1756753200@aroundalhambra.org
SUMMARY:City of Alhambra Planning Commission Regular Meeting
DESCRIPTION:
URL:https://aroundalhambra.org/event/city-of-alhambra-planning-commission-regular-meeting-2/
CATEGORIES:city event
END:VEVENT
BEGIN:VEVENT
DTSTART;TZID=America/Los_Angeles:20250902T183000
DTEND;TZID=America/Los_Angeles:20250902T183000
DTSTAMP:20260420T175638
CREATED:20250806T050943Z
LAST-MODIFIED:20250806T050943Z
UID:4429-1756837800-1756837800@aroundalhambra.org
SUMMARY:City of Alhambra HCDA Citizen Advisory Committee Regular Meeting
DESCRIPTION:
URL:https://aroundalhambra.org/event/city-of-alhambra-hcda-citizen-advisory-committee-regular-meeting/
CATEGORIES:city event
END:VEVENT
BEGIN:VEVENT
DTSTART;TZID=America/Los_Angeles:20250903T190000
DTEND;TZID=America/Los_Angeles:20250903T190000
DTSTAMP:20260420T175638
CREATED:20250806T050943Z
LAST-MODIFIED:20250806T050943Z
UID:4430-1756926000-1756926000@aroundalhambra.org
SUMMARY:City of Alhambra Parks and Recreation Commission Regular Meeting
DESCRIPTION:
URL:https://aroundalhambra.org/event/city-of-alhambra-parks-and-recreation-commission-regular-meeting-2/
CATEGORIES:city event
END:VEVENT
BEGIN:VEVENT
DTSTART;TZID=America/Los_Angeles:20250908T180000
DTEND;TZID=America/Los_Angeles:20250908T180000
DTSTAMP:20260420T175638
CREATED:20250806T050943Z
LAST-MODIFIED:20250806T050943Z
UID:4431-1757354400-1757354400@aroundalhambra.org
SUMMARY:City of Alhambra City Council Regular Meeting
DESCRIPTION:
URL:https://aroundalhambra.org/event/city-of-alhambra-city-council-regular-meeting-3/
CATEGORIES:city event
END:VEVENT
BEGIN:VEVENT
DTSTART;TZID=America/Los_Angeles:20250909T180000
DTEND;TZID=America/Los_Angeles:20250909T180000
DTSTAMP:20260420T175638
CREATED:20250806T050944Z
LAST-MODIFIED:20250806T050944Z
UID:4432-1757440800-1757440800@aroundalhambra.org
SUMMARY:City of Alhambra Board of Library Trustees Regular Meeting
DESCRIPTION:
URL:https://aroundalhambra.org/event/city-of-alhambra-board-of-library-trustees-regular-meeting-2/
CATEGORIES:city event
END:VEVENT
BEGIN:VEVENT
DTSTART;TZID=America/Los_Angeles:20250909T180000
DTEND;TZID=America/Los_Angeles:20250909T180000
DTSTAMP:20260420T175638
CREATED:20250806T050957Z
LAST-MODIFIED:20250806T050957Z
UID:4433-1757440800-1757440800@aroundalhambra.org
SUMMARY:City of Alhambra Youth Commission Regular Meeting
DESCRIPTION:
URL:https://aroundalhambra.org/event/city-of-alhambra-youth-commission-regular-meeting-2/
CATEGORIES:city event
END:VEVENT
BEGIN:VEVENT
DTSTART;TZID=America/Los_Angeles:20250909T190000
DTEND;TZID=America/Los_Angeles:20250909T190000
DTSTAMP:20260420T175638
CREATED:20250806T050958Z
LAST-MODIFIED:20250806T050958Z
UID:4434-1757444400-1757444400@aroundalhambra.org
SUMMARY:City of Alhambra Design Review Board Regular Meeting
DESCRIPTION:
URL:https://aroundalhambra.org/event/city-of-alhambra-design-review-board-regular-meeting-3/
CATEGORIES:city event
END:VEVENT
BEGIN:VEVENT
DTSTART;TZID=America/Los_Angeles:20250910T180000
DTEND;TZID=America/Los_Angeles:20250910T180000
DTSTAMP:20260420T175638
CREATED:20250806T050958Z
LAST-MODIFIED:20250806T050958Z
UID:4435-1757527200-1757527200@aroundalhambra.org
SUMMARY:City of Alhambra Transportation Commission Regular Meeting
DESCRIPTION:
URL:https://aroundalhambra.org/event/city-of-alhambra-transportation-commission-regular-meeting/
CATEGORIES:city event
END:VEVENT
END:VCALENDAR