BEGIN:VCALENDAR
VERSION:2.0
PRODID:-//Around Alhambra - ECPv6.15.20//NONSGML v1.0//EN
CALSCALE:GREGORIAN
METHOD:PUBLISH
X-WR-CALNAME:Around Alhambra
X-ORIGINAL-URL:https://aroundalhambra.org
X-WR-CALDESC:Events for Around Alhambra
REFRESH-INTERVAL;VALUE=DURATION:PT1H
X-Robots-Tag:noindex
X-PUBLISHED-TTL:PT1H
BEGIN:VTIMEZONE
TZID:America/Los_Angeles
BEGIN:DAYLIGHT
TZOFFSETFROM:-0800
TZOFFSETTO:-0700
TZNAME:PDT
DTSTART:20240310T100000
END:DAYLIGHT
BEGIN:STANDARD
TZOFFSETFROM:-0700
TZOFFSETTO:-0800
TZNAME:PST
DTSTART:20241103T090000
END:STANDARD
BEGIN:DAYLIGHT
TZOFFSETFROM:-0800
TZOFFSETTO:-0700
TZNAME:PDT
DTSTART:20250309T100000
END:DAYLIGHT
BEGIN:STANDARD
TZOFFSETFROM:-0700
TZOFFSETTO:-0800
TZNAME:PST
DTSTART:20251102T090000
END:STANDARD
BEGIN:DAYLIGHT
TZOFFSETFROM:-0800
TZOFFSETTO:-0700
TZNAME:PDT
DTSTART:20260308T100000
END:DAYLIGHT
BEGIN:STANDARD
TZOFFSETFROM:-0700
TZOFFSETTO:-0800
TZNAME:PST
DTSTART:20261101T090000
END:STANDARD
END:VTIMEZONE
BEGIN:VEVENT
DTSTART;TZID=America/Los_Angeles:20250922T180000
DTEND;TZID=America/Los_Angeles:20250922T180000
DTSTAMP:20260419T212753
CREATED:20250806T051013Z
LAST-MODIFIED:20250806T051013Z
UID:4440-1758564000-1758564000@aroundalhambra.org
SUMMARY:City of Alhambra City Council Regular Meeting
DESCRIPTION:
URL:https://aroundalhambra.org/event/city-of-alhambra-city-council-regular-meeting-4/
CATEGORIES:city event
END:VEVENT
BEGIN:VEVENT
DTSTART;TZID=America/Los_Angeles:20250923T190000
DTEND;TZID=America/Los_Angeles:20250923T190000
DTSTAMP:20260419T212753
CREATED:20250806T051013Z
LAST-MODIFIED:20250806T051013Z
UID:4441-1758654000-1758654000@aroundalhambra.org
SUMMARY:City of Alhambra Design Review Board Regular Meeting
DESCRIPTION:
URL:https://aroundalhambra.org/event/city-of-alhambra-design-review-board-regular-meeting-4/
CATEGORIES:city event
END:VEVENT
BEGIN:VEVENT
DTSTART;TZID=America/Los_Angeles:20251001T190000
DTEND;TZID=America/Los_Angeles:20251001T190000
DTSTAMP:20260419T212753
CREATED:20250806T051013Z
LAST-MODIFIED:20250806T051013Z
UID:4442-1759345200-1759345200@aroundalhambra.org
SUMMARY:City of Alhambra Parks and Recreation Commission Regular Meeting
DESCRIPTION:
URL:https://aroundalhambra.org/event/city-of-alhambra-parks-and-recreation-commission-regular-meeting-3/
CATEGORIES:city event
END:VEVENT
BEGIN:VEVENT
DTSTART;TZID=America/Los_Angeles:20251006T190000
DTEND;TZID=America/Los_Angeles:20251006T190000
DTSTAMP:20260419T212753
CREATED:20250806T051027Z
LAST-MODIFIED:20250806T051027Z
UID:4443-1759777200-1759777200@aroundalhambra.org
SUMMARY:City of Alhambra Planning Commission Regular Meeting
DESCRIPTION:
URL:https://aroundalhambra.org/event/city-of-alhambra-planning-commission-regular-meeting-4/
CATEGORIES:city event
END:VEVENT
BEGIN:VEVENT
DTSTART;TZID=America/Los_Angeles:20251007T183000
DTEND;TZID=America/Los_Angeles:20251007T183000
DTSTAMP:20260419T212753
CREATED:20250806T051028Z
LAST-MODIFIED:20250806T051028Z
UID:4444-1759861800-1759861800@aroundalhambra.org
SUMMARY:City of Alhambra HCDA Citizen Advisory Committee Regular Meeting
DESCRIPTION:
URL:https://aroundalhambra.org/event/city-of-alhambra-hcda-citizen-advisory-committee-regular-meeting-2/
CATEGORIES:city event
END:VEVENT
BEGIN:VEVENT
DTSTART;TZID=America/Los_Angeles:20251013T180000
DTEND;TZID=America/Los_Angeles:20251013T180000
DTSTAMP:20260419T212753
CREATED:20250806T051028Z
LAST-MODIFIED:20250806T051028Z
UID:4445-1760378400-1760378400@aroundalhambra.org
SUMMARY:City of Alhambra City Council Regular Meeting
DESCRIPTION:
URL:https://aroundalhambra.org/event/city-of-alhambra-city-council-regular-meeting-5/
CATEGORIES:city event
END:VEVENT
BEGIN:VEVENT
DTSTART;TZID=America/Los_Angeles:20251014T180000
DTEND;TZID=America/Los_Angeles:20251014T180000
DTSTAMP:20260419T212753
CREATED:20250806T051028Z
LAST-MODIFIED:20250806T051028Z
UID:4446-1760464800-1760464800@aroundalhambra.org
SUMMARY:City of Alhambra Board of Library Trustees Regular Meeting
DESCRIPTION:
URL:https://aroundalhambra.org/event/city-of-alhambra-board-of-library-trustees-regular-meeting-3/
CATEGORIES:city event
END:VEVENT
BEGIN:VEVENT
DTSTART;TZID=America/Los_Angeles:20251014T180000
DTEND;TZID=America/Los_Angeles:20251014T180000
DTSTAMP:20260419T212753
CREATED:20250806T051028Z
LAST-MODIFIED:20250806T051028Z
UID:4447-1760464800-1760464800@aroundalhambra.org
SUMMARY:City of Alhambra Youth Commission Regular Meeting
DESCRIPTION:
URL:https://aroundalhambra.org/event/city-of-alhambra-youth-commission-regular-meeting-3/
CATEGORIES:city event
END:VEVENT
BEGIN:VEVENT
DTSTART;TZID=America/Los_Angeles:20251014T190000
DTEND;TZID=America/Los_Angeles:20251014T190000
DTSTAMP:20260419T212753
CREATED:20250806T051042Z
LAST-MODIFIED:20250806T051042Z
UID:4448-1760468400-1760468400@aroundalhambra.org
SUMMARY:City of Alhambra Design Review Board Regular Meeting
DESCRIPTION:
URL:https://aroundalhambra.org/event/city-of-alhambra-design-review-board-regular-meeting-5/
CATEGORIES:city event
END:VEVENT
BEGIN:VEVENT
DTSTART;TZID=America/Los_Angeles:20251015T190000
DTEND;TZID=America/Los_Angeles:20251015T190000
DTSTAMP:20260419T212753
CREATED:20250806T051043Z
LAST-MODIFIED:20250806T051043Z
UID:4449-1760554800-1760554800@aroundalhambra.org
SUMMARY:City of Alhambra Arts & Cultural Events Committee Regular Meeting
DESCRIPTION:
URL:https://aroundalhambra.org/event/city-of-alhambra-arts-cultural-events-committee-regular-meeting-3/
CATEGORIES:city event
END:VEVENT
BEGIN:VEVENT
DTSTART;TZID=America/Los_Angeles:20251020T190000
DTEND;TZID=America/Los_Angeles:20251020T190000
DTSTAMP:20260419T212753
CREATED:20250806T051043Z
LAST-MODIFIED:20250806T051043Z
UID:4450-1760986800-1760986800@aroundalhambra.org
SUMMARY:City of Alhambra Planning Commission Regular Meeting
DESCRIPTION:
URL:https://aroundalhambra.org/event/city-of-alhambra-planning-commission-regular-meeting-5/
CATEGORIES:city event
END:VEVENT
BEGIN:VEVENT
DTSTART;TZID=America/Los_Angeles:20251022T180000
DTEND;TZID=America/Los_Angeles:20251022T180000
DTSTAMP:20260419T212753
CREATED:20250806T051043Z
LAST-MODIFIED:20250806T051043Z
UID:4451-1761156000-1761156000@aroundalhambra.org
SUMMARY:City of Alhambra Historic Preservation Commission
DESCRIPTION:
URL:https://aroundalhambra.org/event/city-of-alhambra-historic-preservation-commission/
CATEGORIES:city event
END:VEVENT
BEGIN:VEVENT
DTSTART;TZID=America/Los_Angeles:20251027T180000
DTEND;TZID=America/Los_Angeles:20251027T180000
DTSTAMP:20260419T212753
CREATED:20250806T051043Z
LAST-MODIFIED:20250806T051043Z
UID:4452-1761588000-1761588000@aroundalhambra.org
SUMMARY:City of Alhambra City Council Regular Meeting
DESCRIPTION:
URL:https://aroundalhambra.org/event/city-of-alhambra-city-council-regular-meeting-6/
CATEGORIES:city event
END:VEVENT
END:VCALENDAR