BEGIN:VCALENDAR
VERSION:2.0
PRODID:-//Around Alhambra - ECPv6.15.20//NONSGML v1.0//EN
CALSCALE:GREGORIAN
METHOD:PUBLISH
X-WR-CALNAME:Around Alhambra
X-ORIGINAL-URL:https://aroundalhambra.org
X-WR-CALDESC:Events for Around Alhambra
REFRESH-INTERVAL;VALUE=DURATION:PT1H
X-Robots-Tag:noindex
X-PUBLISHED-TTL:PT1H
BEGIN:VTIMEZONE
TZID:America/Los_Angeles
BEGIN:DAYLIGHT
TZOFFSETFROM:-0800
TZOFFSETTO:-0700
TZNAME:PDT
DTSTART:20240310T100000
END:DAYLIGHT
BEGIN:STANDARD
TZOFFSETFROM:-0700
TZOFFSETTO:-0800
TZNAME:PST
DTSTART:20241103T090000
END:STANDARD
BEGIN:DAYLIGHT
TZOFFSETFROM:-0800
TZOFFSETTO:-0700
TZNAME:PDT
DTSTART:20250309T100000
END:DAYLIGHT
BEGIN:STANDARD
TZOFFSETFROM:-0700
TZOFFSETTO:-0800
TZNAME:PST
DTSTART:20251102T090000
END:STANDARD
BEGIN:DAYLIGHT
TZOFFSETFROM:-0800
TZOFFSETTO:-0700
TZNAME:PDT
DTSTART:20260308T100000
END:DAYLIGHT
BEGIN:STANDARD
TZOFFSETFROM:-0700
TZOFFSETTO:-0800
TZNAME:PST
DTSTART:20261101T090000
END:STANDARD
END:VTIMEZONE
BEGIN:VEVENT
DTSTART;TZID=America/Los_Angeles:20250921T090000
DTEND;TZID=America/Los_Angeles:20250921T130000
DTSTAMP:20260419T193714
CREATED:20250806T051013Z
LAST-MODIFIED:20250812T052535Z
UID:4439-1758445200-1758459600@aroundalhambra.org
SUMMARY:Fiesta Alhambra
DESCRIPTION:Save the date: Celebrate Latino Heritage Month with the City of Alhambra at Fiesta Alhambra on Sunday\, September 17 next to the Certified Farmers Market (100 S. 2nd St)! Starting at 10 AM\, come enjoy live music\, food\, activities and more while you shop at the Farmers Market! For more information\, call (626) 570-5081.
URL:https://aroundalhambra.org/event/fiesta-alhambra-2/
CATEGORIES:city event
ATTACH;FMTTYPE=image/jpeg:https://aroundalhambra.org/wp-content/uploads/2025/08/fiesta-alhambra.jpg
END:VEVENT
END:VCALENDAR