BEGIN:VCALENDAR
VERSION:2.0
PRODID:-//Around Alhambra - ECPv6.15.20//NONSGML v1.0//EN
CALSCALE:GREGORIAN
METHOD:PUBLISH
X-ORIGINAL-URL:https://aroundalhambra.org
X-WR-CALDESC:Events for Around Alhambra
REFRESH-INTERVAL;VALUE=DURATION:PT1H
X-Robots-Tag:noindex
X-PUBLISHED-TTL:PT1H
BEGIN:VTIMEZONE
TZID:America/Los_Angeles
BEGIN:DAYLIGHT
TZOFFSETFROM:-0800
TZOFFSETTO:-0700
TZNAME:PDT
DTSTART:20240310T100000
END:DAYLIGHT
BEGIN:STANDARD
TZOFFSETFROM:-0700
TZOFFSETTO:-0800
TZNAME:PST
DTSTART:20241103T090000
END:STANDARD
BEGIN:DAYLIGHT
TZOFFSETFROM:-0800
TZOFFSETTO:-0700
TZNAME:PDT
DTSTART:20250309T100000
END:DAYLIGHT
BEGIN:STANDARD
TZOFFSETFROM:-0700
TZOFFSETTO:-0800
TZNAME:PST
DTSTART:20251102T090000
END:STANDARD
BEGIN:DAYLIGHT
TZOFFSETFROM:-0800
TZOFFSETTO:-0700
TZNAME:PDT
DTSTART:20260308T100000
END:DAYLIGHT
BEGIN:STANDARD
TZOFFSETFROM:-0700
TZOFFSETTO:-0800
TZNAME:PST
DTSTART:20261101T090000
END:STANDARD
END:VTIMEZONE
BEGIN:VEVENT
DTSTART;TZID=America/Los_Angeles:20250812T180000
DTEND;TZID=America/Los_Angeles:20250812T180000
DTSTAMP:20260419T212538
CREATED:20250806T050925Z
LAST-MODIFIED:20250806T050925Z
UID:4416-1755021600-1755021600@aroundalhambra.org
SUMMARY:City of Alhambra Board of Library Trustees Regular Meeting
DESCRIPTION:
URL:https://aroundalhambra.org/event/city-of-alhambra-board-of-library-trustees-regular-meeting/
CATEGORIES:city event
END:VEVENT
BEGIN:VEVENT
DTSTART;TZID=America/Los_Angeles:20250812T180000
DTEND;TZID=America/Los_Angeles:20250812T180000
DTSTAMP:20260419T212538
CREATED:20250806T050925Z
LAST-MODIFIED:20250806T050925Z
UID:4417-1755021600-1755021600@aroundalhambra.org
SUMMARY:City of Alhambra Youth Commission Regular Meeting
DESCRIPTION:
URL:https://aroundalhambra.org/event/city-of-alhambra-youth-commission-regular-meeting/
CATEGORIES:city event
END:VEVENT
BEGIN:VEVENT
DTSTART;TZID=America/Los_Angeles:20250812T190000
DTEND;TZID=America/Los_Angeles:20250812T190000
DTSTAMP:20260419T212538
CREATED:20250806T050928Z
LAST-MODIFIED:20250806T050931Z
UID:4418-1755025200-1755025200@aroundalhambra.org
SUMMARY:City of Alhambra Design Review Board Regular Meeting
DESCRIPTION:
URL:https://aroundalhambra.org/event/city-of-alhambra-design-review-board-regular-meeting/
CATEGORIES:city event
END:VEVENT
END:VCALENDAR