BEGIN:VCALENDAR
VERSION:2.0
PRODID:-//Around Alhambra - ECPv6.15.20//NONSGML v1.0//EN
CALSCALE:GREGORIAN
METHOD:PUBLISH
X-WR-CALNAME:Around Alhambra
X-ORIGINAL-URL:https://aroundalhambra.org
X-WR-CALDESC:Events for Around Alhambra
REFRESH-INTERVAL;VALUE=DURATION:PT1H
X-Robots-Tag:noindex
X-PUBLISHED-TTL:PT1H
BEGIN:VTIMEZONE
TZID:America/Los_Angeles
BEGIN:DAYLIGHT
TZOFFSETFROM:-0800
TZOFFSETTO:-0700
TZNAME:PDT
DTSTART:20230312T100000
END:DAYLIGHT
BEGIN:STANDARD
TZOFFSETFROM:-0700
TZOFFSETTO:-0800
TZNAME:PST
DTSTART:20231105T090000
END:STANDARD
BEGIN:DAYLIGHT
TZOFFSETFROM:-0800
TZOFFSETTO:-0700
TZNAME:PDT
DTSTART:20240310T100000
END:DAYLIGHT
BEGIN:STANDARD
TZOFFSETFROM:-0700
TZOFFSETTO:-0800
TZNAME:PST
DTSTART:20241103T090000
END:STANDARD
BEGIN:DAYLIGHT
TZOFFSETFROM:-0800
TZOFFSETTO:-0700
TZNAME:PDT
DTSTART:20250309T100000
END:DAYLIGHT
BEGIN:STANDARD
TZOFFSETFROM:-0700
TZOFFSETTO:-0800
TZNAME:PST
DTSTART:20251102T090000
END:STANDARD
END:VTIMEZONE
BEGIN:VEVENT
DTSTART;TZID=America/Los_Angeles:20241112T180000
DTEND;TZID=America/Los_Angeles:20241112T183000
DTSTAMP:20260420T103831
CREATED:20241029T222649Z
LAST-MODIFIED:20241029T222653Z
UID:1938-1731434400-1731436200@aroundalhambra.org
SUMMARY:Board of Library Trustees Regular Meeting
DESCRIPTION:Board of Library Trustees Regular Meeting
URL:https://aroundalhambra.org/event/board-of-library-trustees-regular-meeting/
LOCATION:City of Alhambra\, Alhambra\, California\, 91801\, United States
CATEGORIES:city event,government
ATTACH;FMTTYPE=image/png:https://aroundalhambra.org/wp-content/uploads/2024/10/Document.png
END:VEVENT
BEGIN:VEVENT
DTSTART;TZID=America/Los_Angeles:20241112T180000
DTEND;TZID=America/Los_Angeles:20241112T183000
DTSTAMP:20260420T103831
CREATED:20241029T222758Z
LAST-MODIFIED:20241029T222800Z
UID:1940-1731434400-1731436200@aroundalhambra.org
SUMMARY:Youth Commission Regular Meeting
DESCRIPTION:Youth Commission Regular Meeting
URL:https://aroundalhambra.org/event/youth-commission-regular-meeting/
LOCATION:City of Alhambra\, Alhambra\, California\, 91801\, United States
CATEGORIES:city event,government
ATTACH;FMTTYPE=image/png:https://aroundalhambra.org/wp-content/uploads/2024/10/Document.png
END:VEVENT
BEGIN:VEVENT
DTSTART;TZID=America/Los_Angeles:20241112T193000
DTEND;TZID=America/Los_Angeles:20241112T200000
DTSTAMP:20260420T103831
CREATED:20241029T222857Z
LAST-MODIFIED:20241029T222900Z
UID:1942-1731439800-1731441600@aroundalhambra.org
SUMMARY:Design Review Board Regular Meeting
DESCRIPTION:Design Review Board Regular Meeting
URL:https://aroundalhambra.org/event/design-review-board-regular-meeting/
LOCATION:City of Alhambra\, Alhambra\, California\, 91801\, United States
CATEGORIES:city event,government
END:VEVENT
END:VCALENDAR