BEGIN:VCALENDAR
VERSION:2.0
PRODID:-//Around Alhambra - ECPv6.15.20//NONSGML v1.0//EN
CALSCALE:GREGORIAN
METHOD:PUBLISH
X-ORIGINAL-URL:https://aroundalhambra.org
X-WR-CALDESC:Events for Around Alhambra
REFRESH-INTERVAL;VALUE=DURATION:PT1H
X-Robots-Tag:noindex
X-PUBLISHED-TTL:PT1H
BEGIN:VTIMEZONE
TZID:UTC
BEGIN:STANDARD
TZOFFSETFROM:+0000
TZOFFSETTO:+0000
TZNAME:UTC
DTSTART:20230101T000000
END:STANDARD
END:VTIMEZONE
BEGIN:VEVENT
DTSTART;TZID=UTC:20241110T080000
DTEND;TZID=UTC:20241110T130000
DTSTAMP:20260420T104034
CREATED:20240827T124938Z
LAST-MODIFIED:20240827T130520Z
UID:1017-1731225600-1731243600@aroundalhambra.org
SUMMARY:Alhambra Farmers Market
DESCRIPTION:Find a wide assortment of affordably priced fruits\, vegetables\, honey\, herbs\, bread and more from local growers and vendors every Sunday from 8:30 am to 1 pm at the Alhambra Certified Farmers Market\, located at: 100 South Second Street\, Alhambra\, CA 91811
URL:https://aroundalhambra.org/event/alhambra-farmers-market-november-10/
CATEGORIES:city event
ATTACH;FMTTYPE=image/png:https://aroundalhambra.org/wp-content/uploads/2024/08/Document-PNS5A2.tmp_.png
END:VEVENT
END:VCALENDAR