BEGIN:VCALENDAR
VERSION:2.0
PRODID:-//Around Alhambra - ECPv6.15.20//NONSGML v1.0//EN
CALSCALE:GREGORIAN
METHOD:PUBLISH
X-ORIGINAL-URL:https://aroundalhambra.org
X-WR-CALDESC:Events for Around Alhambra
REFRESH-INTERVAL;VALUE=DURATION:PT1H
X-Robots-Tag:noindex
X-PUBLISHED-TTL:PT1H
BEGIN:VTIMEZONE
TZID:UTC
BEGIN:STANDARD
TZOFFSETFROM:+0000
TZOFFSETTO:+0000
TZNAME:UTC
DTSTART:20230101T000000
END:STANDARD
END:VTIMEZONE
BEGIN:VEVENT
DTSTART;TZID=UTC:20241109T090000
DTEND;TZID=UTC:20241109T170000
DTSTAMP:20260420T104052
CREATED:20241003T001711Z
LAST-MODIFIED:20241003T003853Z
UID:1546-1731142800-1731171600@aroundalhambra.org
SUMMARY:Community Emergency Response Team (CERT) Training ( 社區緊急應變訓練)
DESCRIPTION:Alhambra Fire Department will be hosting CERT classes in Mandarin on November 9 and November 16 at the Alhambra Fire Department Training Center  (911 S New Ave.) from 9 AM-5 PM. Attendance for both sessions is required to earn certification. Please note that ALL training materials and handouts will be provided in Mandarin. \n\n\n\nAll participants must register by November 2. Priority registration will go to Alhambra residents. Proof of identification will be required the day of the training. Questions about the program can be emailed to CERT@alhambrafire.org. \n\n\n\n— \n\n\n\n阿罕布拉消防局將於11 月9 日和11 月16 日上午9 點至下午5 點在阿罕布拉消防局訓練中心（911 S New Ave.）舉辦普通話社區緊急應變小組(CERT) 課程。必須參加這兩個課程才能獲得認證。請注意，所有培訓材料和講義都將以中文話提供。 \n\n\n\n所有參與者必須在 11 月 2 日之前註冊。培訓當天需提供身分證明。有關該計劃的問題可以透過電子郵件發送至 CERT@alhambrafire.org。
URL:https://aroundalhambra.org/event/community-emergency-response-team-cert-training-%e7%a4%be%e5%8d%80%e7%b7%8a%e6%80%a5%e6%87%89%e8%ae%8a%e8%a8%93%e7%b7%b4/
LOCATION:Alhambra Fire Training Center\, 911 S. New Ave.\, Alhambra\, California\, 91801\, United States
CATEGORIES:city event
ATTACH;FMTTYPE=image/jpeg:https://aroundalhambra.org/wp-content/uploads/2024/10/November-2024-CERT-CH.jpg
END:VEVENT
END:VCALENDAR