BEGIN:VCALENDAR
VERSION:2.0
PRODID:-//Around Alhambra - ECPv6.15.20//NONSGML v1.0//EN
CALSCALE:GREGORIAN
METHOD:PUBLISH
X-WR-CALNAME:Around Alhambra
X-ORIGINAL-URL:https://aroundalhambra.org
X-WR-CALDESC:Events for Around Alhambra
REFRESH-INTERVAL;VALUE=DURATION:PT1H
X-Robots-Tag:noindex
X-PUBLISHED-TTL:PT1H
BEGIN:VTIMEZONE
TZID:UTC
BEGIN:STANDARD
TZOFFSETFROM:+0000
TZOFFSETTO:+0000
TZNAME:UTC
DTSTART:20230101T000000
END:STANDARD
END:VTIMEZONE
BEGIN:VEVENT
DTSTART;TZID=UTC:20240909T100000
DTEND;TZID=UTC:20240909T170000
DTSTAMP:20260420T132451
CREATED:20240827T104944Z
LAST-MODIFIED:20240827T110615Z
UID:912-1725876000-1725901200@aroundalhambra.org
SUMMARY:Fiesta Alhambra
DESCRIPTION:Celebrate Latino Heritage Month with us at Fiesta Alhambra! Join us on September 15 at 10 AM at 100 S. 2nd Street\, right alongside the Farmers Market. Enjoy fresh produce\, live Latin music\, unique craft vendors\, dance exhibitions\, children’s activities\, and a special Community Ofrenda to honor loved ones. It’s a day full of culture\, community and fun for the whole family!
URL:https://aroundalhambra.org/event/fiesta-alhambra/
CATEGORIES:city event
ATTACH;FMTTYPE=image/png:https://aroundalhambra.org/wp-content/uploads/2024/08/Document-vD8j0D.tmp_.png
END:VEVENT
END:VCALENDAR