BEGIN:VCALENDAR
VERSION:2.0
PRODID:-//Around Alhambra - ECPv6.15.20//NONSGML v1.0//EN
CALSCALE:GREGORIAN
METHOD:PUBLISH
X-WR-CALNAME:Around Alhambra
X-ORIGINAL-URL:https://aroundalhambra.org
X-WR-CALDESC:Events for Around Alhambra
REFRESH-INTERVAL;VALUE=DURATION:PT1H
X-Robots-Tag:noindex
X-PUBLISHED-TTL:PT1H
BEGIN:VTIMEZONE
TZID:UTC
BEGIN:STANDARD
TZOFFSETFROM:+0000
TZOFFSETTO:+0000
TZNAME:UTC
DTSTART:20230101T000000
END:STANDARD
END:VTIMEZONE
BEGIN:VEVENT
DTSTART;TZID=UTC:20240908T080000
DTEND;TZID=UTC:20240908T130000
DTSTAMP:20260420T132432
CREATED:20240827T124932Z
LAST-MODIFIED:20250125T032314Z
UID:1008-1725782400-1725800400@aroundalhambra.org
SUMMARY:Alhambra Farmers Market
DESCRIPTION:Find a wide assortment of affordably priced fruits\, vegetables\, honey\, herbs\, bread and more from local growers and vendors every Sunday from 8:30 am to 1 pm at the Alhambra Certified Farmers Market\, located at: 100 South Second Street\, Alhambra\, CA 91802
URL:https://aroundalhambra.org/event/alhambra-farmers-market-september-8/
CATEGORIES:city event
ATTACH;FMTTYPE=image/png:https://aroundalhambra.org/wp-content/uploads/2024/08/Document-PNS5A2.tmp_.png
END:VEVENT
BEGIN:VEVENT
DTSTART;TZID=UTC:20240908T110000
DTEND;TZID=UTC:20240908T150000
DTSTAMP:20260420T132432
CREATED:20240807T151414Z
LAST-MODIFIED:20250125T032329Z
UID:796-1725793200-1725807600@aroundalhambra.org
SUMMARY:Open House - Courtyard by Marriott Los Angeles Monterey Park
DESCRIPTION:
URL:https://aroundalhambra.org/event/open-house-courtyard-by-marriott-los-angeles-monterey-park/
CATEGORIES:city event
ATTACH;FMTTYPE=image/png:https://aroundalhambra.org/wp-content/uploads/2024/08/ACC20Courtyard20by20Marriott20Open20House-DYJ1tm.tmp_.png
END:VEVENT
END:VCALENDAR