BEGIN:VCALENDAR
VERSION:2.0
PRODID:-//Around Alhambra - ECPv6.15.20//NONSGML v1.0//EN
CALSCALE:GREGORIAN
METHOD:PUBLISH
X-WR-CALNAME:Around Alhambra
X-ORIGINAL-URL:https://aroundalhambra.org
X-WR-CALDESC:Events for Around Alhambra
REFRESH-INTERVAL;VALUE=DURATION:PT1H
X-Robots-Tag:noindex
X-PUBLISHED-TTL:PT1H
BEGIN:VTIMEZONE
TZID:America/Los_Angeles
BEGIN:DAYLIGHT
TZOFFSETFROM:-0800
TZOFFSETTO:-0700
TZNAME:PDT
DTSTART:20240310T100000
END:DAYLIGHT
BEGIN:STANDARD
TZOFFSETFROM:-0700
TZOFFSETTO:-0800
TZNAME:PST
DTSTART:20241103T090000
END:STANDARD
BEGIN:DAYLIGHT
TZOFFSETFROM:-0800
TZOFFSETTO:-0700
TZNAME:PDT
DTSTART:20250309T100000
END:DAYLIGHT
BEGIN:STANDARD
TZOFFSETFROM:-0700
TZOFFSETTO:-0800
TZNAME:PST
DTSTART:20251102T090000
END:STANDARD
BEGIN:DAYLIGHT
TZOFFSETFROM:-0800
TZOFFSETTO:-0700
TZNAME:PDT
DTSTART:20260308T100000
END:DAYLIGHT
BEGIN:STANDARD
TZOFFSETFROM:-0700
TZOFFSETTO:-0800
TZNAME:PST
DTSTART:20261101T090000
END:STANDARD
END:VTIMEZONE
BEGIN:VEVENT
DTSTART;TZID=America/Los_Angeles:20250602T113000
DTEND;TZID=America/Los_Angeles:20250808T160000
DTSTAMP:20260419T194721
CREATED:20250510T011921Z
LAST-MODIFIED:20250510T011923Z
UID:3613-1748863800-1754668800@aroundalhambra.org
SUMMARY:Summer Food Service Program
DESCRIPTION:FREE Summer Meals for Kids & Teens!  \n\n\n\nFrom June 2 – August 8\, 2025\, kids and teens ages 1–18 can enjoy FREE\, nutritious lunches and snacks—no registration required! \n\n\n\n Info: (626) 570-5081 \n\n\n\nhttps://ow.ly/eGBr50VLxLP
URL:https://aroundalhambra.org/event/summer-food-service-program/
CATEGORIES:city event
END:VEVENT
BEGIN:VEVENT
DTSTART;TZID=America/Los_Angeles:20250805T180000
DTEND;TZID=America/Los_Angeles:20250805T203000
DTSTAMP:20260419T194721
CREATED:20250724T031431Z
LAST-MODIFIED:20250731T223408Z
UID:4226-1754416800-1754425800@aroundalhambra.org
SUMMARY:National Night Out
DESCRIPTION:The Alhambra Police Department is excited to host this year’s National Night Out celebration on Tuesday\, August 5\, from 6 PM to 8:30 PM—and this year\, the event is happening in front of the Alhambra Police Headquarters (211 S. First Street)!Attendees will have the chance to watch live demonstrations and interact with officers\, SWAT team members\, motor personnel\, and K-9 units. It’s a great way to get a behind-the-scenes look at the department and learn more about the important work being done to keep Alhambra safe.
URL:https://aroundalhambra.org/event/national-night-out/
LOCATION:Alhambra Police Headquarters\, 211 S First Street\, Alhambra\, California\, 91801\, United States
CATEGORIES:city event
END:VEVENT
BEGIN:VEVENT
DTSTART;TZID=America/Los_Angeles:20250806T190000
DTEND;TZID=America/Los_Angeles:20250806T190000
DTSTAMP:20260419T194721
CREATED:20250806T050924Z
LAST-MODIFIED:20250806T050924Z
UID:4414-1754506800-1754506800@aroundalhambra.org
SUMMARY:City of Alhambra Parks and Recreation Commission Regular Meeting
DESCRIPTION:
URL:https://aroundalhambra.org/event/city-of-alhambra-parks-and-recreation-commission-regular-meeting/
CATEGORIES:city event
END:VEVENT
BEGIN:VEVENT
DTSTART;TZID=America/Los_Angeles:20250811T180000
DTEND;TZID=America/Los_Angeles:20250811T180000
DTSTAMP:20260419T194721
CREATED:20250806T050925Z
LAST-MODIFIED:20250806T050925Z
UID:4415-1754935200-1754935200@aroundalhambra.org
SUMMARY:City of Alhambra City Council Regular Meeting
DESCRIPTION:
URL:https://aroundalhambra.org/event/city-of-alhambra-city-council-regular-meeting/
CATEGORIES:city event
END:VEVENT
BEGIN:VEVENT
DTSTART;TZID=America/Los_Angeles:20250812T180000
DTEND;TZID=America/Los_Angeles:20250812T180000
DTSTAMP:20260419T194721
CREATED:20250806T050925Z
LAST-MODIFIED:20250806T050925Z
UID:4416-1755021600-1755021600@aroundalhambra.org
SUMMARY:City of Alhambra Board of Library Trustees Regular Meeting
DESCRIPTION:
URL:https://aroundalhambra.org/event/city-of-alhambra-board-of-library-trustees-regular-meeting/
CATEGORIES:city event
END:VEVENT
BEGIN:VEVENT
DTSTART;TZID=America/Los_Angeles:20250812T180000
DTEND;TZID=America/Los_Angeles:20250812T180000
DTSTAMP:20260419T194721
CREATED:20250806T050925Z
LAST-MODIFIED:20250806T050925Z
UID:4417-1755021600-1755021600@aroundalhambra.org
SUMMARY:City of Alhambra Youth Commission Regular Meeting
DESCRIPTION:
URL:https://aroundalhambra.org/event/city-of-alhambra-youth-commission-regular-meeting/
CATEGORIES:city event
END:VEVENT
BEGIN:VEVENT
DTSTART;TZID=America/Los_Angeles:20250812T190000
DTEND;TZID=America/Los_Angeles:20250812T190000
DTSTAMP:20260419T194721
CREATED:20250806T050928Z
LAST-MODIFIED:20250806T050931Z
UID:4418-1755025200-1755025200@aroundalhambra.org
SUMMARY:City of Alhambra Design Review Board Regular Meeting
DESCRIPTION:
URL:https://aroundalhambra.org/event/city-of-alhambra-design-review-board-regular-meeting/
CATEGORIES:city event
END:VEVENT
BEGIN:VEVENT
DTSTART;TZID=America/Los_Angeles:20250815T180000
DTEND;TZID=America/Los_Angeles:20250815T210000
DTSTAMP:20260419T194721
CREATED:20250806T050918Z
LAST-MODIFIED:20250806T050918Z
UID:4413-1755280800-1755291600@aroundalhambra.org
SUMMARY:Lei’d Back Luau Dinner Dance
DESCRIPTION:Join us for an island-inspired evening at the Joslyn Adult Center on Friday\, August 15 from 6–9 PM. Enjoy delicious luau-style food\, music\, and dancing with friends!\n$12 per person – Pre-registration required.
URL:https://aroundalhambra.org/event/leid-back-luau-dinner-dance/
CATEGORIES:city event
END:VEVENT
BEGIN:VEVENT
DTSTART;TZID=America/Los_Angeles:20250818T190000
DTEND;TZID=America/Los_Angeles:20250818T190000
DTSTAMP:20260419T194721
CREATED:20250806T050928Z
LAST-MODIFIED:20250806T050931Z
UID:4419-1755543600-1755543600@aroundalhambra.org
SUMMARY:City of Alhambra Planning Commission Regular Meeting
DESCRIPTION:
URL:https://aroundalhambra.org/event/city-of-alhambra-planning-commission-regular-meeting/
CATEGORIES:city event
END:VEVENT
BEGIN:VEVENT
DTSTART;TZID=America/Los_Angeles:20250820T190000
DTEND;TZID=America/Los_Angeles:20250820T190000
DTSTAMP:20260419T194721
CREATED:20250806T050929Z
LAST-MODIFIED:20250806T050931Z
UID:4420-1755716400-1755716400@aroundalhambra.org
SUMMARY:City of Alhambra Arts & Cultural Events Committee Regular Meeting
DESCRIPTION:
URL:https://aroundalhambra.org/event/city-of-alhambra-arts-cultural-events-committee-regular-meeting/
CATEGORIES:city event
END:VEVENT
BEGIN:VEVENT
DTSTART;TZID=America/Los_Angeles:20250825T180000
DTEND;TZID=America/Los_Angeles:20250825T180000
DTSTAMP:20260419T194721
CREATED:20250806T050929Z
LAST-MODIFIED:20250806T050931Z
UID:4421-1756144800-1756144800@aroundalhambra.org
SUMMARY:City of Alhambra City Council Regular Meeting
DESCRIPTION:
URL:https://aroundalhambra.org/event/city-of-alhambra-city-council-regular-meeting-2/
CATEGORIES:city event
END:VEVENT
BEGIN:VEVENT
DTSTART;TZID=America/Los_Angeles:20250826T190000
DTEND;TZID=America/Los_Angeles:20250826T190000
DTSTAMP:20260419T194721
CREATED:20250806T050930Z
LAST-MODIFIED:20250806T050931Z
UID:4422-1756234800-1756234800@aroundalhambra.org
SUMMARY:City of Alhambra Design Review Board Regular Meeting
DESCRIPTION:
URL:https://aroundalhambra.org/event/city-of-alhambra-design-review-board-regular-meeting-2/
CATEGORIES:city event
END:VEVENT
END:VCALENDAR