BEGIN:VCALENDAR
VERSION:2.0
PRODID:-//Around Alhambra - ECPv6.15.20//NONSGML v1.0//EN
CALSCALE:GREGORIAN
METHOD:PUBLISH
X-WR-CALNAME:Around Alhambra
X-ORIGINAL-URL:https://aroundalhambra.org
X-WR-CALDESC:Events for Around Alhambra
REFRESH-INTERVAL;VALUE=DURATION:PT1H
X-Robots-Tag:noindex
X-PUBLISHED-TTL:PT1H
BEGIN:VTIMEZONE
TZID:America/Los_Angeles
BEGIN:DAYLIGHT
TZOFFSETFROM:-0800
TZOFFSETTO:-0700
TZNAME:PDT
DTSTART:20240310T100000
END:DAYLIGHT
BEGIN:STANDARD
TZOFFSETFROM:-0700
TZOFFSETTO:-0800
TZNAME:PST
DTSTART:20241103T090000
END:STANDARD
BEGIN:DAYLIGHT
TZOFFSETFROM:-0800
TZOFFSETTO:-0700
TZNAME:PDT
DTSTART:20250309T100000
END:DAYLIGHT
BEGIN:STANDARD
TZOFFSETFROM:-0700
TZOFFSETTO:-0800
TZNAME:PST
DTSTART:20251102T090000
END:STANDARD
BEGIN:DAYLIGHT
TZOFFSETFROM:-0800
TZOFFSETTO:-0700
TZNAME:PDT
DTSTART:20260308T100000
END:DAYLIGHT
BEGIN:STANDARD
TZOFFSETFROM:-0700
TZOFFSETTO:-0800
TZNAME:PST
DTSTART:20261101T090000
END:STANDARD
END:VTIMEZONE
BEGIN:VEVENT
DTSTART;TZID=America/Los_Angeles:20250313T173000
DTEND;TZID=America/Los_Angeles:20250313T193000
DTSTAMP:20260420T033440
CREATED:20250308T051825Z
LAST-MODIFIED:20250308T052416Z
UID:3120-1741887000-1741894200@aroundalhambra.org
SUMMARY:Green Street Demonstration Project Community Meeting
DESCRIPTION:The Green Street Demonstration Project is kicking off its Environmental Phase with a Community Outreach Meeting on March 13 at the Alhambra Library from 5:30-7:30 PM. Enjoy free refreshments\, a presentation at 6 PM\, and exciting prize drawings afterward. Don’t miss the chance to learn more and provide your feedback!
URL:https://aroundalhambra.org/event/green-street-demonstration-project-community-meeting/
LOCATION:Alhambra Library\, 101 S 1st St\, Alhambra\, California\, United States
CATEGORIES:city event
END:VEVENT
BEGIN:VEVENT
DTSTART;TZID=America/Los_Angeles:20250316T140000
DTEND;TZID=America/Los_Angeles:20250316T150000
DTSTAMP:20260420T033441
CREATED:20250308T051645Z
LAST-MODIFIED:20250308T051650Z
UID:3119-1742133600-1742137200@aroundalhambra.org
SUMMARY:Neighborhood Watch Meeting
DESCRIPTION:Join us on Sunday\, March 16\, 2025\, at 2:00 PM for a Neighborhood Watch Meeting in Area 4 at Granada Park. Ask questions\, meet the Area 4 Commander\, and get to know some of your neighbors! \n\n\n\nAll are welcome to attend. Please bring your own chairs.
URL:https://aroundalhambra.org/event/neighborhood-watch-meeting/
LOCATION:Granada Park\, 000 W Hellman Ave\, Alhambra\, California\, 91803\, United States
CATEGORIES:city event
END:VEVENT
END:VCALENDAR