BEGIN:VCALENDAR
VERSION:2.0
PRODID:-//Around Alhambra - ECPv6.15.20//NONSGML v1.0//EN
CALSCALE:GREGORIAN
METHOD:PUBLISH
X-WR-CALNAME:Around Alhambra
X-ORIGINAL-URL:https://aroundalhambra.org
X-WR-CALDESC:Events for Around Alhambra
REFRESH-INTERVAL;VALUE=DURATION:PT1H
X-Robots-Tag:noindex
X-PUBLISHED-TTL:PT1H
BEGIN:VTIMEZONE
TZID:UTC
BEGIN:STANDARD
TZOFFSETFROM:+0000
TZOFFSETTO:+0000
TZNAME:UTC
DTSTART:20230101T000000
END:STANDARD
END:VTIMEZONE
BEGIN:VEVENT
DTSTART;TZID=UTC:20241201T080000
DTEND;TZID=UTC:20241201T130000
DTSTAMP:20260420T075551
CREATED:20240827T124953Z
LAST-MODIFIED:20240827T125752Z
UID:1020-1733040000-1733058000@aroundalhambra.org
SUMMARY:Alhambra Farmers Market
DESCRIPTION:Find a wide assortment of affordably priced fruits\, vegetables\, honey\, herbs\, bread and more from local growers and vendors every Sunday from 8:30 am to 1 pm at the Alhambra Certified Farmers Market\, located at: 100 South Second Street\, Alhambra\, CA 91814
URL:https://aroundalhambra.org/event/alhambra-farmers-market-december-1/
CATEGORIES:city event
ATTACH;FMTTYPE=image/png:https://aroundalhambra.org/wp-content/uploads/2024/08/Document-PNS5A2.tmp_.png
END:VEVENT
BEGIN:VEVENT
DTSTART;TZID=UTC:20241206T170000
DTEND;TZID=UTC:20241206T210000
DTSTAMP:20260420T075551
CREATED:20241001T004805Z
LAST-MODIFIED:20241001T004807Z
UID:1514-1733504400-1733518800@aroundalhambra.org
SUMMARY:Alhambra Tree Lighting Ceremony
DESCRIPTION:Join us for the Downtown Alhambra Annual Tree Lighting Ceremony on Friday\, December 6th at the Renaissance Plaza in front of Applebee’s and The Regal Theater! Santa will be arriving in style on a firetruck at 5:30 PM\, and at 6:00 PM\, he will light up our beautiful tree. Enjoy an evening of festive fun with vendors\, live music\, and games for the entire family! Don’t miss this magical night to kick off the holiday season.
URL:https://aroundalhambra.org/event/alhambra-tree-lighting-ceremony/
LOCATION:Renaissance Plaza\, 1 E. Main St.\, Alhambra\, California\, 91801\, United States
CATEGORIES:city event
ATTACH;FMTTYPE=image/jpeg:https://aroundalhambra.org/wp-content/uploads/2024/09/DABATreeLightingCeremony2024IGSquare-1.jpeg
END:VEVENT
BEGIN:VEVENT
DTSTART;TZID=UTC:20241208T080000
DTEND;TZID=UTC:20241208T130000
DTSTAMP:20260420T075551
CREATED:20240827T124953Z
LAST-MODIFIED:20240827T125754Z
UID:1021-1733644800-1733662800@aroundalhambra.org
SUMMARY:Alhambra Farmers Market
DESCRIPTION:Find a wide assortment of affordably priced fruits\, vegetables\, honey\, herbs\, bread and more from local growers and vendors every Sunday from 8:30 am to 1 pm at the Alhambra Certified Farmers Market\, located at: 100 South Second Street\, Alhambra\, CA 91815
URL:https://aroundalhambra.org/event/alhambra-farmers-market-december-8/
CATEGORIES:city event
ATTACH;FMTTYPE=image/png:https://aroundalhambra.org/wp-content/uploads/2024/08/Document-PNS5A2.tmp_.png
END:VEVENT
BEGIN:VEVENT
DTSTART;TZID=UTC:20241215T080000
DTEND;TZID=UTC:20241215T130000
DTSTAMP:20260420T075551
CREATED:20240827T124954Z
LAST-MODIFIED:20240827T125757Z
UID:1022-1734249600-1734267600@aroundalhambra.org
SUMMARY:Alhambra Farmers Market
DESCRIPTION:Find a wide assortment of affordably priced fruits\, vegetables\, honey\, herbs\, bread and more from local growers and vendors every Sunday from 8:30 am to 1 pm at the Alhambra Certified Farmers Market\, located at: 100 South Second Street\, Alhambra\, CA 91816
URL:https://aroundalhambra.org/event/alhambra-farmers-market-december-15/
CATEGORIES:city event
ATTACH;FMTTYPE=image/png:https://aroundalhambra.org/wp-content/uploads/2024/08/Document-PNS5A2.tmp_.png
END:VEVENT
BEGIN:VEVENT
DTSTART;TZID=UTC:20241222T080000
DTEND;TZID=UTC:20241222T130000
DTSTAMP:20260420T075551
CREATED:20240827T125040Z
LAST-MODIFIED:20240827T125409Z
UID:1023-1734854400-1734872400@aroundalhambra.org
SUMMARY:Alhambra Farmers Market
DESCRIPTION:Find a wide assortment of affordably priced fruits\, vegetables\, honey\, herbs\, bread and more from local growers and vendors every Sunday from 8:30 am to 1 pm at the Alhambra Certified Farmers Market\, located at: 100 South Second Street\, Alhambra\, CA 91817
URL:https://aroundalhambra.org/event/alhambra-farmers-market-december-22/
CATEGORIES:city event
ATTACH;FMTTYPE=image/png:https://aroundalhambra.org/wp-content/uploads/2024/08/Document-PNS5A2.tmp_.png
END:VEVENT
BEGIN:VEVENT
DTSTART;TZID=UTC:20241229T080000
DTEND;TZID=UTC:20241229T130000
DTSTAMP:20260420T075551
CREATED:20240827T125040Z
LAST-MODIFIED:20240827T125306Z
UID:1024-1735459200-1735477200@aroundalhambra.org
SUMMARY:Alhambra Farmers Market
DESCRIPTION:Find a wide assortment of affordably priced fruits\, vegetables\, honey\, herbs\, bread and more from local growers and vendors every Sunday from 8:30 am to 1 pm at the Alhambra Certified Farmers Market\, located at: 100 South Second Street\, Alhambra\, CA 91818
URL:https://aroundalhambra.org/event/alhambra-farmers-market-december-29/
CATEGORIES:city event
ATTACH;FMTTYPE=image/png:https://aroundalhambra.org/wp-content/uploads/2024/08/Document-PNS5A2.tmp_.png
END:VEVENT
END:VCALENDAR