BEGIN:VCALENDAR
VERSION:2.0
PRODID:-//Around Alhambra - ECPv6.15.20//NONSGML v1.0//EN
CALSCALE:GREGORIAN
METHOD:PUBLISH
X-ORIGINAL-URL:https://aroundalhambra.org
X-WR-CALDESC:Events for Around Alhambra
REFRESH-INTERVAL;VALUE=DURATION:PT1H
X-Robots-Tag:noindex
X-PUBLISHED-TTL:PT1H
BEGIN:VTIMEZONE
TZID:UTC
BEGIN:STANDARD
TZOFFSETFROM:+0000
TZOFFSETTO:+0000
TZNAME:UTC
DTSTART:20230101T000000
END:STANDARD
END:VTIMEZONE
BEGIN:VEVENT
DTSTART;TZID=UTC:20241006T080000
DTEND;TZID=UTC:20241006T130000
DTSTAMP:20260420T103351
CREATED:20240827T124934Z
LAST-MODIFIED:20240827T130242Z
UID:1012-1728201600-1728219600@aroundalhambra.org
SUMMARY:Alhambra Farmers Market
DESCRIPTION:Find a wide assortment of affordably priced fruits\, vegetables\, honey\, herbs\, bread and more from local growers and vendors every Sunday from 8:30 am to 1 pm at the Alhambra Certified Farmers Market\, located at: 100 South Second Street\, Alhambra\, CA 91806
URL:https://aroundalhambra.org/event/alhambra-farmers-market-october-6/
CATEGORIES:city event
ATTACH;FMTTYPE=image/png:https://aroundalhambra.org/wp-content/uploads/2024/08/Document-PNS5A2.tmp_.png
END:VEVENT
BEGIN:VEVENT
DTSTART;TZID=UTC:20241013T080000
DTEND;TZID=UTC:20241013T130000
DTSTAMP:20260420T103351
CREATED:20240827T124936Z
LAST-MODIFIED:20240827T130055Z
UID:1013-1728806400-1728824400@aroundalhambra.org
SUMMARY:Alhambra Farmers Market
DESCRIPTION:Find a wide assortment of affordably priced fruits\, vegetables\, honey\, herbs\, bread and more from local growers and vendors every Sunday from 8:30 am to 1 pm at the Alhambra Certified Farmers Market\, located at: 100 South Second Street\, Alhambra\, CA 91807
URL:https://aroundalhambra.org/event/alhambra-farmers-market-october-13/
CATEGORIES:city event
ATTACH;FMTTYPE=image/png:https://aroundalhambra.org/wp-content/uploads/2024/08/Document-PNS5A2.tmp_.png
END:VEVENT
BEGIN:VEVENT
DTSTART;TZID=UTC:20241020T080000
DTEND;TZID=UTC:20241020T130000
DTSTAMP:20260420T103351
CREATED:20240827T124936Z
LAST-MODIFIED:20240827T130129Z
UID:1014-1729411200-1729429200@aroundalhambra.org
SUMMARY:Alhambra Farmers Market
DESCRIPTION:Find a wide assortment of affordably priced fruits\, vegetables\, honey\, herbs\, bread and more from local growers and vendors every Sunday from 8:30 am to 1 pm at the Alhambra Certified Farmers Market\, located at: 100 South Second Street\, Alhambra\, CA 91808
URL:https://aroundalhambra.org/event/alhambra-farmers-market-october-20/
CATEGORIES:city event
ATTACH;FMTTYPE=image/png:https://aroundalhambra.org/wp-content/uploads/2024/08/Document-PNS5A2.tmp_.png
END:VEVENT
BEGIN:VEVENT
DTSTART;TZID=UTC:20241027T080000
DTEND;TZID=UTC:20241027T130000
DTSTAMP:20260420T103351
CREATED:20240827T124937Z
LAST-MODIFIED:20240827T130522Z
UID:1015-1730016000-1730034000@aroundalhambra.org
SUMMARY:Alhambra Farmers Market
DESCRIPTION:Find a wide assortment of affordably priced fruits\, vegetables\, honey\, herbs\, bread and more from local growers and vendors every Sunday from 8:30 am to 1 pm at the Alhambra Certified Farmers Market\, located at: 100 South Second Street\, Alhambra\, CA 91809
URL:https://aroundalhambra.org/event/alhambra-farmers-market-october-27/
CATEGORIES:city event
ATTACH;FMTTYPE=image/png:https://aroundalhambra.org/wp-content/uploads/2024/08/Document-PNS5A2.tmp_.png
END:VEVENT
END:VCALENDAR