BEGIN:VCALENDAR
VERSION:2.0
PRODID:-//Around Alhambra - ECPv6.15.20//NONSGML v1.0//EN
CALSCALE:GREGORIAN
METHOD:PUBLISH
X-ORIGINAL-URL:https://aroundalhambra.org
X-WR-CALDESC:Events for Around Alhambra
REFRESH-INTERVAL;VALUE=DURATION:PT1H
X-Robots-Tag:noindex
X-PUBLISHED-TTL:PT1H
BEGIN:VTIMEZONE
TZID:UTC
BEGIN:STANDARD
TZOFFSETFROM:+0000
TZOFFSETTO:+0000
TZNAME:UTC
DTSTART:20230101T000000
END:STANDARD
END:VTIMEZONE
BEGIN:VEVENT
DTSTART;TZID=UTC:20240810T100000
DTEND;TZID=UTC:20240810T140000
DTSTAMP:20260420T132424
CREATED:20240731T120256Z
LAST-MODIFIED:20250125T032147Z
UID:751-1723284000-1723298400@aroundalhambra.org
SUMMARY:Pelican Cove Counseling Center Wellness Day
DESCRIPTION:Whether you’re seeking guidance\, seeking relaxation techniques\, or simply looking for a listening ear\, this community wellness day is here to provide you with the support you need.
URL:https://aroundalhambra.org/event/pelican-cove-counseling-center-wellness-day-2/
LOCATION:Pelican Cove Counseling Center\, 240 S Garfield Ave\, Alhambra\, 91801
CATEGORIES:city event
ATTACH;FMTTYPE=image/jpeg:https://aroundalhambra.org/wp-content/uploads/2024/07/WellnessHeader-drHaVW.tmp_.jpg
END:VEVENT
BEGIN:VEVENT
DTSTART;TZID=UTC:20240816T150000
DTEND;TZID=UTC:20240816T160000
DTSTAMP:20260420T132424
CREATED:20240807T151413Z
LAST-MODIFIED:20250125T032216Z
UID:794-1723820400-1723824000@aroundalhambra.org
SUMMARY:World of Music - Grand Opening & Ribbon Cutting
DESCRIPTION:
URL:https://aroundalhambra.org/event/world-of-music-grand-opening-ribbon-cutting/
CATEGORIES:city event
ATTACH;FMTTYPE=image/jpeg:https://aroundalhambra.org/wp-content/uploads/2024/08/World20of20Music20Grand20Opening20Flyer20-20August2016202024-AGGzl6.tmp_.jpg
END:VEVENT
BEGIN:VEVENT
DTSTART;TZID=UTC:20240828T130000
DTEND;TZID=UTC:20240828T190000
DTSTAMP:20260420T132424
CREATED:20240827T104946Z
LAST-MODIFIED:20240827T110627Z
UID:916-1724850000-1724871600@aroundalhambra.org
SUMMARY:Alhambra Police Department Blood Donation Drive
DESCRIPTION:Help save lives\, and earn a $20 Amazon Gift Card on Wednesday\, August 28 from 1 PM to 7 PM at the Alhambra Police Department!
URL:https://aroundalhambra.org/event/alhambra-police-department-blood-donation-drive/
CATEGORIES:city event
END:VEVENT
END:VCALENDAR