BEGIN:VCALENDAR
VERSION:2.0
PRODID:-//Around Alhambra - ECPv6.15.20//NONSGML v1.0//EN
CALSCALE:GREGORIAN
METHOD:PUBLISH
X-WR-CALNAME:Around Alhambra
X-ORIGINAL-URL:https://aroundalhambra.org
X-WR-CALDESC:Events for Around Alhambra
REFRESH-INTERVAL;VALUE=DURATION:PT1H
X-Robots-Tag:noindex
X-PUBLISHED-TTL:PT1H
BEGIN:VTIMEZONE
TZID:America/Los_Angeles
BEGIN:DAYLIGHT
TZOFFSETFROM:-0800
TZOFFSETTO:-0700
TZNAME:PDT
DTSTART:20240310T100000
END:DAYLIGHT
BEGIN:STANDARD
TZOFFSETFROM:-0700
TZOFFSETTO:-0800
TZNAME:PST
DTSTART:20241103T090000
END:STANDARD
BEGIN:DAYLIGHT
TZOFFSETFROM:-0800
TZOFFSETTO:-0700
TZNAME:PDT
DTSTART:20250309T100000
END:DAYLIGHT
BEGIN:STANDARD
TZOFFSETFROM:-0700
TZOFFSETTO:-0800
TZNAME:PST
DTSTART:20251102T090000
END:STANDARD
BEGIN:DAYLIGHT
TZOFFSETFROM:-0800
TZOFFSETTO:-0700
TZNAME:PDT
DTSTART:20260308T100000
END:DAYLIGHT
BEGIN:STANDARD
TZOFFSETFROM:-0700
TZOFFSETTO:-0800
TZNAME:PST
DTSTART:20261101T090000
END:STANDARD
BEGIN:DAYLIGHT
TZOFFSETFROM:-0800
TZOFFSETTO:-0700
TZNAME:PDT
DTSTART:20270314T100000
END:DAYLIGHT
BEGIN:STANDARD
TZOFFSETFROM:-0700
TZOFFSETTO:-0800
TZNAME:PST
DTSTART:20271107T090000
END:STANDARD
END:VTIMEZONE
BEGIN:VEVENT
DTSTART;TZID=America/Los_Angeles:20250827T173000
DTEND;TZID=America/Los_Angeles:20250827T190000
DTSTAMP:20260420T062537
CREATED:20250510T015050Z
LAST-MODIFIED:20250510T015050Z
UID:3633-1756315800-1756321200@aroundalhambra.org
SUMMARY:Small Business Connects August
DESCRIPTION:
URL:https://aroundalhambra.org/event/small-business-connects-august/
CATEGORIES:chamber event
END:VEVENT
BEGIN:VEVENT
DTSTART;TZID=America/Los_Angeles:20250909T140000
DTEND;TZID=America/Los_Angeles:20250909T150000
DTSTAMP:20260420T062537
CREATED:20250510T015541Z
LAST-MODIFIED:20250510T015541Z
UID:3643-1757426400-1757430000@aroundalhambra.org
SUMMARY:Alhambra à la Mode September
DESCRIPTION:
URL:https://aroundalhambra.org/event/alhambra-a-la-mode-september/
CATEGORIES:chamber event
END:VEVENT
BEGIN:VEVENT
DTSTART;TZID=America/Los_Angeles:20250911T113000
DTEND;TZID=America/Los_Angeles:20250911T130000
DTSTAMP:20260420T062537
CREATED:20250510T020027Z
LAST-MODIFIED:20250814T210847Z
UID:3652-1757590200-1757595600@aroundalhambra.org
SUMMARY:Leadership Luncheon September
DESCRIPTION:
URL:https://aroundalhambra.org/event/leadership-luncheon-september/
CATEGORIES:chamber event
END:VEVENT
BEGIN:VEVENT
DTSTART;TZID=America/Los_Angeles:20250924T173000
DTEND;TZID=America/Los_Angeles:20250924T190000
DTSTAMP:20260420T062537
CREATED:20250510T015050Z
LAST-MODIFIED:20250510T015050Z
UID:3634-1758735000-1758740400@aroundalhambra.org
SUMMARY:Small Business Connects September
DESCRIPTION:
URL:https://aroundalhambra.org/event/small-business-connects-september/
CATEGORIES:chamber event
END:VEVENT
BEGIN:VEVENT
DTSTART;TZID=America/Los_Angeles:20251014T140000
DTEND;TZID=America/Los_Angeles:20251014T150000
DTSTAMP:20260420T062537
CREATED:20250510T015542Z
LAST-MODIFIED:20250510T015542Z
UID:3644-1760450400-1760454000@aroundalhambra.org
SUMMARY:Alhambra à la Mode October
DESCRIPTION:
URL:https://aroundalhambra.org/event/alhambra-a-la-mode-october/
CATEGORIES:chamber event
END:VEVENT
BEGIN:VEVENT
DTSTART;TZID=America/Los_Angeles:20251016T113000
DTEND;TZID=America/Los_Angeles:20251016T130000
DTSTAMP:20260420T062537
CREATED:20250510T020028Z
LAST-MODIFIED:20250510T020028Z
UID:3653-1760614200-1760619600@aroundalhambra.org
SUMMARY:Leadership Luncheon October
DESCRIPTION:
URL:https://aroundalhambra.org/event/leadership-luncheon-october/
CATEGORIES:chamber event
END:VEVENT
BEGIN:VEVENT
DTSTART;TZID=America/Los_Angeles:20251022T173000
DTEND;TZID=America/Los_Angeles:20251022T190000
DTSTAMP:20260420T062537
CREATED:20250510T015052Z
LAST-MODIFIED:20250510T015052Z
UID:3635-1761154200-1761159600@aroundalhambra.org
SUMMARY:Small Business Connects October
DESCRIPTION:
URL:https://aroundalhambra.org/event/small-business-connects-october/
CATEGORIES:chamber event
END:VEVENT
BEGIN:VEVENT
DTSTART;TZID=America/Los_Angeles:20251111T140000
DTEND;TZID=America/Los_Angeles:20251111T150000
DTSTAMP:20260420T062537
CREATED:20250510T015542Z
LAST-MODIFIED:20250510T015542Z
UID:3645-1762869600-1762873200@aroundalhambra.org
SUMMARY:Alhambra à la Mode November
DESCRIPTION:
URL:https://aroundalhambra.org/event/alhambra-a-la-mode-november/
CATEGORIES:chamber event
END:VEVENT
BEGIN:VEVENT
DTSTART;TZID=America/Los_Angeles:20251113T113000
DTEND;TZID=America/Los_Angeles:20251113T130000
DTSTAMP:20260420T062537
CREATED:20250510T020028Z
LAST-MODIFIED:20250510T020028Z
UID:3654-1763033400-1763038800@aroundalhambra.org
SUMMARY:Leadership Luncheon November
DESCRIPTION:
URL:https://aroundalhambra.org/event/leadership-luncheon-november/
CATEGORIES:chamber event
END:VEVENT
BEGIN:VEVENT
DTSTART;TZID=America/Los_Angeles:20251126T173000
DTEND;TZID=America/Los_Angeles:20251126T190000
DTSTAMP:20260420T062537
CREATED:20250510T015052Z
LAST-MODIFIED:20250510T015052Z
UID:3636-1764178200-1764183600@aroundalhambra.org
SUMMARY:Small Business Connects November
DESCRIPTION:
URL:https://aroundalhambra.org/event/small-business-connects-november/
CATEGORIES:chamber event
END:VEVENT
BEGIN:VEVENT
DTSTART;TZID=America/Los_Angeles:20260228T080000
DTEND;TZID=America/Los_Angeles:20260228T170000
DTSTAMP:20260420T062537
CREATED:20250611T004408Z
LAST-MODIFIED:20250611T004412Z
UID:3859-1772265600-1772298000@aroundalhambra.org
SUMMARY:2026 Alhambra Lunar New Year Festival
DESCRIPTION:
URL:https://aroundalhambra.org/event/2026-alhambra-lunar-new-year-festival/
LOCATION:Main Street\, Alhambra\, Main Street\, Alhambra\, California\, 91801\, United States
CATEGORIES:chamber event
ATTACH;FMTTYPE=image/png:https://aroundalhambra.org/wp-content/uploads/2025/06/Year-of-the-Horse-Lunar-New-Year.png
END:VEVENT
END:VCALENDAR