BEGIN:VCALENDAR
VERSION:2.0
PRODID:-//Around Alhambra - ECPv6.15.20//NONSGML v1.0//EN
CALSCALE:GREGORIAN
METHOD:PUBLISH
X-ORIGINAL-URL:https://aroundalhambra.org
X-WR-CALDESC:Events for Around Alhambra
REFRESH-INTERVAL;VALUE=DURATION:PT1H
X-Robots-Tag:noindex
X-PUBLISHED-TTL:PT1H
BEGIN:VTIMEZONE
TZID:UTC
BEGIN:STANDARD
TZOFFSETFROM:+0000
TZOFFSETTO:+0000
TZNAME:UTC
DTSTART:20230101T000000
END:STANDARD
END:VTIMEZONE
BEGIN:VEVENT
DTSTART;TZID=UTC:20240828T173000
DTEND;TZID=UTC:20240828T190000
DTSTAMP:20260420T132452
CREATED:20240731T120254Z
LAST-MODIFIED:20250125T032230Z
UID:749-1724866200-1724871600@aroundalhambra.org
SUMMARY:Small Business Connects
DESCRIPTION:Join Alhambra’s monthly business networking event!
URL:https://aroundalhambra.org/event/small-business-connects-2/
LOCATION:California
CATEGORIES:chamber event
ATTACH;FMTTYPE=image/png:https://aroundalhambra.org/wp-content/uploads/2024/07/ACC20July20Small20Business20Connects-BDoE5X.tmp_.png
END:VEVENT
END:VCALENDAR