BEGIN:VCALENDAR
VERSION:2.0
PRODID:-//Around Alhambra - ECPv6.15.20//NONSGML v1.0//EN
CALSCALE:GREGORIAN
METHOD:PUBLISH
X-WR-CALNAME:Around Alhambra
X-ORIGINAL-URL:https://aroundalhambra.org
X-WR-CALDESC:Events for Around Alhambra
REFRESH-INTERVAL;VALUE=DURATION:PT1H
X-Robots-Tag:noindex
X-PUBLISHED-TTL:PT1H
BEGIN:VTIMEZONE
TZID:UTC
BEGIN:STANDARD
TZOFFSETFROM:+0000
TZOFFSETTO:+0000
TZNAME:UTC
DTSTART:20230101T000000
END:STANDARD
END:VTIMEZONE
BEGIN:VEVENT
DTSTART;TZID=UTC:20240822T080000
DTEND;TZID=UTC:20240822T120000
DTSTAMP:20260420T144814
CREATED:20240710T130038Z
LAST-MODIFIED:20250125T032224Z
UID:574-1724313600-1724328000@aroundalhambra.org
SUMMARY:West San Gabriel Valley Non Profit Summit
DESCRIPTION:Hear from experts on board operations\, marketing\, and fundraising!
URL:https://aroundalhambra.org/event/west-san-gabriel-valley-non-profit-summit/
LOCATION:Happy Humble Hub\, 117 E Main St Unit A & B\, Alhambra\, CA\, 91801\, United States
CATEGORIES:chamber event
ATTACH;FMTTYPE=image/png:https://aroundalhambra.org/wp-content/uploads/2024/07/West20SGV20Nonprofit20Summit-2-W2R22y.tmp_.png
END:VEVENT
END:VCALENDAR