BEGIN:VCALENDAR
VERSION:2.0
PRODID:-//Around Alhambra - ECPv6.15.20//NONSGML v1.0//EN
CALSCALE:GREGORIAN
METHOD:PUBLISH
X-ORIGINAL-URL:https://aroundalhambra.org
X-WR-CALDESC:Events for Around Alhambra
REFRESH-INTERVAL;VALUE=DURATION:PT1H
X-Robots-Tag:noindex
X-PUBLISHED-TTL:PT1H
BEGIN:VTIMEZONE
TZID:America/Los_Angeles
BEGIN:DAYLIGHT
TZOFFSETFROM:-0800
TZOFFSETTO:-0700
TZNAME:PDT
DTSTART:20240310T100000
END:DAYLIGHT
BEGIN:STANDARD
TZOFFSETFROM:-0700
TZOFFSETTO:-0800
TZNAME:PST
DTSTART:20241103T090000
END:STANDARD
BEGIN:DAYLIGHT
TZOFFSETFROM:-0800
TZOFFSETTO:-0700
TZNAME:PDT
DTSTART:20250309T100000
END:DAYLIGHT
BEGIN:STANDARD
TZOFFSETFROM:-0700
TZOFFSETTO:-0800
TZNAME:PST
DTSTART:20251102T090000
END:STANDARD
BEGIN:DAYLIGHT
TZOFFSETFROM:-0800
TZOFFSETTO:-0700
TZNAME:PDT
DTSTART:20260308T100000
END:DAYLIGHT
BEGIN:STANDARD
TZOFFSETFROM:-0700
TZOFFSETTO:-0800
TZNAME:PST
DTSTART:20261101T090000
END:STANDARD
END:VTIMEZONE
BEGIN:VEVENT
DTSTART;TZID=America/Los_Angeles:20251111T140000
DTEND;TZID=America/Los_Angeles:20251111T150000
DTSTAMP:20260419T151252
CREATED:20250510T015542Z
LAST-MODIFIED:20250510T015542Z
UID:3645-1762869600-1762873200@aroundalhambra.org
SUMMARY:Alhambra à la Mode November
DESCRIPTION:
URL:https://aroundalhambra.org/event/alhambra-a-la-mode-november/
LOCATION:California
CATEGORIES:chamber event
END:VEVENT
BEGIN:VEVENT
DTSTART;TZID=America/Los_Angeles:20251113T113000
DTEND;TZID=America/Los_Angeles:20251113T130000
DTSTAMP:20260419T151252
CREATED:20250510T020028Z
LAST-MODIFIED:20250510T020028Z
UID:3654-1763033400-1763038800@aroundalhambra.org
SUMMARY:Leadership Luncheon November
DESCRIPTION:
URL:https://aroundalhambra.org/event/leadership-luncheon-november/
LOCATION:California
CATEGORIES:chamber event
END:VEVENT
BEGIN:VEVENT
DTSTART;TZID=America/Los_Angeles:20251126T173000
DTEND;TZID=America/Los_Angeles:20251126T190000
DTSTAMP:20260419T151252
CREATED:20250510T015052Z
LAST-MODIFIED:20250510T015052Z
UID:3636-1764178200-1764183600@aroundalhambra.org
SUMMARY:Small Business Connects November
DESCRIPTION:
URL:https://aroundalhambra.org/event/small-business-connects-november/
LOCATION:California
CATEGORIES:chamber event
END:VEVENT
END:VCALENDAR