BEGIN:VCALENDAR
VERSION:2.0
PRODID:-//Around Alhambra - ECPv6.15.20//NONSGML v1.0//EN
CALSCALE:GREGORIAN
METHOD:PUBLISH
X-ORIGINAL-URL:https://aroundalhambra.org
X-WR-CALDESC:Events for Around Alhambra
REFRESH-INTERVAL;VALUE=DURATION:PT1H
X-Robots-Tag:noindex
X-PUBLISHED-TTL:PT1H
BEGIN:VTIMEZONE
TZID:America/Los_Angeles
BEGIN:DAYLIGHT
TZOFFSETFROM:-0800
TZOFFSETTO:-0700
TZNAME:PDT
DTSTART:20240310T100000
END:DAYLIGHT
BEGIN:STANDARD
TZOFFSETFROM:-0700
TZOFFSETTO:-0800
TZNAME:PST
DTSTART:20241103T090000
END:STANDARD
BEGIN:DAYLIGHT
TZOFFSETFROM:-0800
TZOFFSETTO:-0700
TZNAME:PDT
DTSTART:20250309T100000
END:DAYLIGHT
BEGIN:STANDARD
TZOFFSETFROM:-0700
TZOFFSETTO:-0800
TZNAME:PST
DTSTART:20251102T090000
END:STANDARD
BEGIN:DAYLIGHT
TZOFFSETFROM:-0800
TZOFFSETTO:-0700
TZNAME:PDT
DTSTART:20260308T100000
END:DAYLIGHT
BEGIN:STANDARD
TZOFFSETFROM:-0700
TZOFFSETTO:-0800
TZNAME:PST
DTSTART:20261101T090000
END:STANDARD
END:VTIMEZONE
BEGIN:VEVENT
DTSTART;TZID=America/Los_Angeles:20250812T140000
DTEND;TZID=America/Los_Angeles:20250812T150000
DTSTAMP:20260419T194752
CREATED:20250510T015540Z
LAST-MODIFIED:20250510T015540Z
UID:3642-1755007200-1755010800@aroundalhambra.org
SUMMARY:Alhambra à la Mode August
DESCRIPTION:
URL:https://aroundalhambra.org/event/alhambra-a-la-mode-august/
LOCATION:California
CATEGORIES:chamber event
END:VEVENT
BEGIN:VEVENT
DTSTART;TZID=America/Los_Angeles:20250814T113000
DTEND;TZID=America/Los_Angeles:20250814T130000
DTSTAMP:20260419T194752
CREATED:20250510T020026Z
LAST-MODIFIED:20250510T020026Z
UID:3651-1755171000-1755176400@aroundalhambra.org
SUMMARY:Leadership Luncheon August
DESCRIPTION:
URL:https://aroundalhambra.org/event/leadership-luncheon-august/
LOCATION:California
CATEGORIES:chamber event
END:VEVENT
BEGIN:VEVENT
DTSTART;TZID=America/Los_Angeles:20250815T090000
DTEND;TZID=America/Los_Angeles:20250815T123000
DTSTAMP:20260419T194752
CREATED:20250522T235736Z
LAST-MODIFIED:20250522T235739Z
UID:3777-1755248400-1755261000@aroundalhambra.org
SUMMARY:The Power to Persist: The 2025 West San Gabriel Valley Nonprofit Summit
DESCRIPTION:
URL:https://aroundalhambra.org/event/the-power-to-persist-the-2025-west-san-gabriel-valley-nonprofit-summit/
LOCATION:Reese Hall\, Alhambra Civic Center Library\, 101 S. First St.\, Alhambr\, California\, 91801\, United States
CATEGORIES:chamber event
END:VEVENT
BEGIN:VEVENT
DTSTART;TZID=America/Los_Angeles:20250827T173000
DTEND;TZID=America/Los_Angeles:20250827T190000
DTSTAMP:20260419T194752
CREATED:20250510T015050Z
LAST-MODIFIED:20250510T015050Z
UID:3633-1756315800-1756321200@aroundalhambra.org
SUMMARY:Small Business Connects August
DESCRIPTION:
URL:https://aroundalhambra.org/event/small-business-connects-august/
LOCATION:California
CATEGORIES:chamber event
END:VEVENT
END:VCALENDAR