BEGIN:VCALENDAR
VERSION:2.0
PRODID:-//Around Alhambra - ECPv6.15.20//NONSGML v1.0//EN
CALSCALE:GREGORIAN
METHOD:PUBLISH
X-ORIGINAL-URL:https://aroundalhambra.org
X-WR-CALDESC:Events for Around Alhambra
REFRESH-INTERVAL;VALUE=DURATION:PT1H
X-Robots-Tag:noindex
X-PUBLISHED-TTL:PT1H
BEGIN:VTIMEZONE
TZID:UTC
BEGIN:STANDARD
TZOFFSETFROM:+0000
TZOFFSETTO:+0000
TZNAME:UTC
DTSTART:20230101T000000
END:STANDARD
END:VTIMEZONE
BEGIN:VEVENT
DTSTART;TZID=UTC:20240910T140000
DTEND;TZID=UTC:20240910T150000
DTSTAMP:20260420T115640
CREATED:20240807T151415Z
LAST-MODIFIED:20250125T032414Z
UID:798-1725976800-1725980400@aroundalhambra.org
SUMMARY:Alhambra A La Mode
DESCRIPTION:Drop in\, enjoy a tasty treat on us\, and learn how the Chamber can help you with your business!
URL:https://aroundalhambra.org/event/alhambra-a-la-mode-2/
LOCATION:California
CATEGORIES:chamber event
END:VEVENT
BEGIN:VEVENT
DTSTART;TZID=UTC:20240912T173000
DTEND;TZID=UTC:20240912T190000
DTSTAMP:20260420T115640
CREATED:20240807T151416Z
LAST-MODIFIED:20250125T032415Z
UID:799-1726162200-1726167600@aroundalhambra.org
SUMMARY:2024 President's Awards and Installation
DESCRIPTION:
URL:https://aroundalhambra.org/event/2024-presidents-awards-and-installation/
LOCATION:California
CATEGORIES:chamber event
ATTACH;FMTTYPE=image/png:https://aroundalhambra.org/wp-content/uploads/2024/08/Presidents20Awards20Jul16-BxmYNL.tmp_.png
END:VEVENT
BEGIN:VEVENT
DTSTART;TZID=UTC:20240925T173000
DTEND;TZID=UTC:20240925T190000
DTSTAMP:20260420T115640
CREATED:20240807T151418Z
LAST-MODIFIED:20250125T032415Z
UID:801-1727285400-1727290800@aroundalhambra.org
SUMMARY:Small Business Connects
DESCRIPTION:Join Alhambra’s monthly business networking event!
URL:https://aroundalhambra.org/event/small-business-connects-3/
LOCATION:California
CATEGORIES:chamber event
ATTACH;FMTTYPE=image/png:https://aroundalhambra.org/wp-content/uploads/2024/08/ACC20Sep20Small20Business20Connects-HYecrm.tmp_.png
END:VEVENT
BEGIN:VEVENT
DTSTART;TZID=UTC:20240928T080000
DTEND;TZID=UTC:20240928T110000
DTSTAMP:20260420T115640
CREATED:20240827T110949Z
LAST-MODIFIED:20240828T040654Z
UID:980-1727510400-1727521200@aroundalhambra.org
SUMMARY:Alhambra Day of Service
DESCRIPTION:The Alhambra Chamber of Commerce Nonprofit Council has been working on the Alhambra Day of Service that is set to take place on Saturday\, September 28\, 2024\, 8:00AM – 11:00AM. This day of service will consist of a variety of projects around the City where community members can join in and volunteer to beautify the community and other initiatives.
URL:https://aroundalhambra.org/event/alhambra-day-of-service-2/
LOCATION:Alhambra Park\, 500 N Palm Ave\, Alhambra\, California\, 91801\, United States
CATEGORIES:chamber event
ATTACH;FMTTYPE=image/png:https://aroundalhambra.org/wp-content/uploads/2024/08/202420Alhambra20Day20of20Service20Flyer20Aug27-EHd3pL.tmp_.png
END:VEVENT
END:VCALENDAR